BEGIN:VCALENDAR
VERSION:2.0
PRODID:-//ChamberMaster//Event Calendar 2.0//EN
METHOD:PUBLISH
X-PUBLISHED-TTL:P3D
REFRESH-INTERVAL:P3D
CALSCALE:GREGORIAN
BEGIN:VEVENT
DTSTART:20160508T150000Z
DTEND:20160508T190000Z
X-MICROSOFT-CDO-ALLDAYEVENT:FALSE
SUMMARY:Mother's Day Brunch
DESCRIPTION:Join us for our Annual Mother's Day Brunch at the Bigwood Event Center! Call our front desk at 218-739-2211 to reserve your seats. Reservations are available for parties of 6 or more people and walk-ins will be accepted for smaller groups. We never turn anyone away! Brunch is served from 10:00am - 2:00pm with reservation times occurring every 15 minutes. Our delicious menu this year consists of the following items:\n\n\n\nBountiful Fruit Display & Yogurt Parfait Station\n\nChef Made-to-Order Omelets\n\nChef Carved Mesquite Smoked Tri-Tip\n\nGrilled Chicken Breast with Bruschetta\n\nLemon Basil Tilapia\n\nDelicious Scrambled Eggs & Crisp Bacon\n\nButtery Pancakes with Whipped Cream and Warm Maple Syrup\n\nBiscuits with MN Wild Rice Sausag...e Gravy\n\nCheesy Hash Browns & our Famous Green Bean Casserole\n\nAssorted Breads\, Lefse\, Pastries\, and Gourmet Butters\n\nSmoked Salmon Presentation\n\nFull Salad Bar including Homemade Deli Salads\n\nFresh Veggie Platter and Steamed Seasonal Vegetables\n\nWide Array of Desserts including Homemade Cheesecakes and Bread Pudding.\n\n\n\nAdults: $24.95\n\nSeniors: $22.95\n\nChildren (10 & Under): $9.95\n\nChildren (3 & Under): Free
X-ALT-DESC;FMTTYPE=text/html:<div class="text_exposed_root text_exposed" id="id_572131e6b36547e21813461"><span class="_4n-j fsl">Join us for our Annual Mother&#39\;s Day Brunch at the Bigwood Event Center! Call our front desk at 218-739-2211 to reserve your seats. Reservations are available for parties of 6 or more people and walk-ins will be accepted for smaller groups. We never turn anyone away! Brunch is served from 10:00am - 2:00pm with reservation times occurring every 15 minutes. Our delicious menu this year consists of the following items:<br />\n<br />\nBountiful Fruit Display &amp\; Yogurt Parfait Station<br />\nChef Made-to-Order Omelets<br />\nChef Carved Mesquite Smoked Tri-Tip<br />\nGrilled Chicken Breast with Bruschetta<br />\nLemon Basil Tilapia<br />\nDelicious Scrambled Eggs &amp\; Crisp Bacon<br />\nButtery Pancakes with Whipped Cream and Warm Maple Syrup<br />\nBiscuits with MN Wild Rice Sausag<span class="text_exposed_hide">...</span><span class="text_exposed_show">e Gravy<br />\nCheesy Hash Browns &amp\; our Famous Green Bean Casserole<br />\nAssorted Breads\, Lefse\, Pastries\, and Gourmet Butters<br />\nSmoked Salmon Presentation<br />\nFull Salad Bar including Homemade Deli Salads<br />\nFresh Veggie Platter and Steamed Seasonal Vegetables<br />\nWide Array of Desserts including Homemade Cheesecakes and Bread Pudding.<br />\n<br />\nAdults: $24.95<br />\nSeniors: $22.95<br />\nChildren (10 &amp\; Under): $9.95<br />\nChildren (3 &amp\; Under): Free</span></span></div>\n
LOCATION:Best Western & Bigwood Event Center 925 Western Ave\, Fergus Falls
UID:e.314.32659
SEQUENCE:3
DTSTAMP:20260425T163032Z
URL:https://business.fergusfalls.com/events/details/mother-s-day-brunch-05-08-2016-32659
END:VEVENT

END:VCALENDAR
