BEGIN:VCALENDAR
VERSION:2.0
PRODID:-//ChamberMaster//Event Calendar 2.0//EN
METHOD:PUBLISH
X-PUBLISHED-TTL:P3D
REFRESH-INTERVAL:P3D
CALSCALE:GREGORIAN
BEGIN:VEVENT
DTSTART:20180513T150000Z
DTEND:20180513T193000Z
X-MICROSOFT-CDO-ALLDAYEVENT:FALSE
SUMMARY:Mother's Day Brunch
DESCRIPTION:Celebrate Mother's Day with us!\n\nWe are hosting a brunch for all the wonderful mothers out there!\n\nSunday\, May 13\n\nWe are offering 3 different reserved seating times!\n\n10:30am ~ 12:00pm ~ 1:30pm\n\n\n\nAdults - $25.95\n\nSeniors (55+) - $21.95\n\nKids Ages 4-10 - $9.95\n\nKids 3 & Under are free!\n\n\n\nRESERVATIONS REQUIRED by Thursday\, May 10th for any size party. Reservations can be made by calling the Country Inn & Suites in Fergus Falls at (218)739-2211 and speaking to a front desk associate.They will ask for your information and reserve your preferred seating time.\n\n\n\nWe are excited to host this special meal for mothers\, family\, and friends! We look forward to celebrating with you!
X-ALT-DESC;FMTTYPE=text/html:<span class="_4n-j _fbReactionComponent__eventDetailsContentTags fsl" data-testid="event-permalink-details">Celebrate Mother&rsquo\;s Day with us!<br />\nWe are hosting a brunch for all the wonderful mothers out there!<br />\nSunday\, May 13<br />\nWe are offering 3 different reserved seating times!<br />\n10:30am ~ 12:00pm ~ 1:30pm<br />\n<br />\nAdults - $25.95<br />\nSeniors (55+) - $21.95<br />\nKids Ages 4-10 - $9.95<br />\nKids 3 &amp\; Under are free!<br />\n<br />\nRESERVATIONS REQUIRED by Thursday\, May 10th for any size party. Reservations can be made by calling the Country Inn &amp\; Suites in Fergus Falls at (218)739-2211 and speaking to a front desk associate.They will ask for your information and reserve your preferred seating time.<br />\n<br />\nWe are excited to host this special meal for mothers\, family\, and friends! We look forward to celebrating with you!</span>
LOCATION:Country Inn & Suites / Bigwood Event Center 925 Western Ave\, Fergus Falls\, Minnesota 56537
UID:e.314.48772
SEQUENCE:3
DTSTAMP:20260423T224111Z
URL:https://business.fergusfalls.com/events/details/mother-s-day-brunch-48772
END:VEVENT

END:VCALENDAR
