BEGIN:VCALENDAR
VERSION:2.0
PRODID:-//ChamberMaster//Event Calendar 2.0//EN
METHOD:PUBLISH
X-PUBLISHED-TTL:P3D
REFRESH-INTERVAL:P3D
CALSCALE:GREGORIAN
BEGIN:VEVENT
DTSTART:20190512T153000Z
DTEND:20190512T183000Z
X-MICROSOFT-CDO-ALLDAYEVENT:FALSE
SUMMARY:Mother's Day Brunch
DESCRIPTION:Celebrate Mother's Day with us! We are hosting a brunch for all the wonderful mothers out there!\n\n\n\nBigwood Event Center\n\n925 Western Ave in Fergus Falls\, MN\n\nSunday\, May 12\n\nWe are offering 2 different reserved seating times!\n\n10:30am ~ 12:00pm\n\n\n\nAdults: $24.95\n\nSeniors (55+): $21.95\n\nKids Ages 4-10: $9.95\n\nKids 3 & Under are free!\n\n\n\nPlease make a reservation by Thursday\, May 9th for any size party. Reservations can be made by calling the Country Inn & Suites in Fergus Falls at (218)739-2211 and speaking to a front desk associate.They will ask for your information and reserve your preferred seating time.\n\n\n\nMenu will be released next week!\n\n\n\nWe are excited to host this special meal for mothers\, family\, and friends! We look forward to celebrating with you!
X-ALT-DESC;FMTTYPE=text/html:<span>Celebrate Mother&rsquo\;s Day with us! We are hosting a brunch for all the wonderful mothers out there!<br />\n<br />\nBigwood Event Center<br />\n925 Western Ave in Fergus Falls\, MN<br />\nSunday\, May 12<br />\nWe are offering 2 different reserved seating times!<br />\n10:30am ~ 12:00pm<br />\n<br />\nAdults: $24.95<br />\nSeniors (55+): $21.95<br />\nKids Ages 4-10: $9.95<br />\nKids 3 &amp\; Under are free!<br />\n<br />\nPlease make a reservation by Thursday\, May 9th for any size party. Reservations can be made by calling the Country Inn &amp\; Suites in Fergus Falls at (218)739-2211 and speaking to a front desk associate.They will ask for your information and reserve your preferred seating time.<br />\n<br />\nMenu will be released next week!<br />\n<br />\nWe are excited to host this special meal for mothers\, family\, and friends! We look forward to celebrating with you!</span>
LOCATION:Country Inn & Suites by Radisson\, Fergus Falls\, MN 925 Western Avenue\, Fergus Falls\, Minnesota 56537
UID:e.314.52636
SEQUENCE:3
DTSTAMP:20260423T050303Z
URL:https://business.fergusfalls.com/events/details/mother-s-day-brunch-52636
END:VEVENT

END:VCALENDAR
