BEGIN:VCALENDAR
VERSION:2.0
PRODID:-//ChamberMaster//Event Calendar 2.0//EN
METHOD:PUBLISH
X-PUBLISHED-TTL:P3D
REFRESH-INTERVAL:P3D
CALSCALE:GREGORIAN
BEGIN:VEVENT
DTSTART:20190512T153000Z
DTEND:20190512T183000Z
X-MICROSOFT-CDO-ALLDAYEVENT:FALSE
SUMMARY:Mother's Day Brunch at the Bigwood
DESCRIPTION:Celebrate Mother's Day with us! We are hosting a brunch for all the wonderful mothers out there! Sunday\, May 12 We are offering 2 different reserved seating times! 10:30am ~ 12:00pm Please make a reservation by Thursday\, May 9th for any size party. Reservations can be made by calling the Country Inn & Suites in Fergus Falls at (218)739-2211 and speaking to a front desk associate.They will ask for your information and reserve your preferred seating time. Menu will be released next week! We are excited to host this special meal for mothers\, family\, and friends! We look forward to celebrating with you!
X-ALT-DESC;FMTTYPE=text/html:Celebrate Mother&rsquo\;s Day with us! We are hosting a brunch for all the wonderful mothers out there! Sunday\, May 12 We are offering 2 different reserved seating times! 10:30am ~ 12:00pm Please make a reservation by Thursday\, May 9th for any size party. Reservations can be made by calling the Country Inn &amp\; Suites in Fergus Falls at (218)739-2211 and speaking to a front desk associate.They will ask for your information and reserve your preferred seating time. Menu will be released next week! We are excited to host this special meal for mothers\, family\, and friends! We look forward to celebrating with you!
LOCATION:Bigwood Event Center 925 Western Ave Fergus Falls\, MN 56537
UID:e.314.52809
SEQUENCE:3
DTSTAMP:20260423T050715Z
URL:https://business.fergusfalls.com/events/details/mother-s-day-brunch-at-the-bigwood-52809
END:VEVENT

END:VCALENDAR
