BEGIN:VCALENDAR
VERSION:2.0
PRODID:-//ChamberMaster//Event Calendar 2.0//EN
METHOD:PUBLISH
X-PUBLISHED-TTL:P3D
REFRESH-INTERVAL:P3D
CALSCALE:GREGORIAN
BEGIN:VEVENT
DTSTART:20160211T230000Z
DTEND:20160212T013000Z
X-MICROSOFT-CDO-ALLDAYEVENT:FALSE
SUMMARY:Movie: based on "The Martian" by Andy Weir
DESCRIPTION:Movie: based on "The Martian" by Andy Weir\n\nHosted by Fergus Falls Public Library
X-ALT-DESC;FMTTYPE=text/html:<div><span class="_5v1l _11s4"><a href="https://www.facebook.com/events/1509344006036006/?ref=1&amp\;action_history=%5B%7B%22surface%22%3A%22permalink%22%2C%22mechanism%22%3A%22surface%22%2C%22extra_data%22%3A%5B%5D%7D%5D"><font color="#0066cc">Movie: based on &quot\;The Martian&quot\; by Andy Weir</font></a></span><br />\nHosted by <a data-hovercard="/ajax/hovercard/page.php?id=175739909114201" data-hovercard-position="below" href="https://www.facebook.com/fergusfallspubliclibrary/"><font color="#0066cc">Fergus Falls Public Library</font></a><br />\n&nbsp\;</div>\n
LOCATION:Fergus Falls Public Library 205 Hampden Ave\, Fergus Falls\, Minnesota 56537
UID:e.314.31066
SEQUENCE:3
DTSTAMP:20260425T201240Z
URL:https://business.fergusfalls.com/events/details/movie-based-on-the-martian-by-andy-weir-02-11-2016-31066
END:VEVENT

END:VCALENDAR
