BEGIN:VCALENDAR
VERSION:2.0
PRODID:-//ChamberMaster//Event Calendar 2.0//EN
METHOD:PUBLISH
X-PUBLISHED-TTL:P3D
REFRESH-INTERVAL:P3D
CALSCALE:GREGORIAN
BEGIN:VEVENT
DTSTART:20151008T223000Z
DTEND:20151009T001500Z
X-MICROSOFT-CDO-ALLDAYEVENT:FALSE
SUMMARY:Movie Night
DESCRIPTION:Sixty years after WWII\, a Jewish woman starts her journey to retrieve family possessions seized by the Nazis. Stars Helen Mirren. Rated PG-13. Call the library for the movie title\, (218) 739-9387. Refreshments provided by the Friends of the Library.
X-ALT-DESC;FMTTYPE=text/html:<span style="color: rgb(20\, 24\, 35)\; font-family: helvetica\,arial\,sans-serif\; font-size: 14px\;">Sixty years after WWII\, a Jewish woman starts her journey to retrieve family possessions seized by the Nazis. Stars Helen Mirren. Rated PG-13. Call the library for the movie title\, (218) 739-9387. Refreshments provided by the Friends of the Library.</span>
LOCATION:Fergus Falls Public Library
UID:e.314.24036
SEQUENCE:3
DTSTAMP:20260426T030012Z
URL:https://business.fergusfalls.com/events/details/movie-night-10-08-2015-24036
END:VEVENT

END:VCALENDAR
