BEGIN:VCALENDAR
VERSION:2.0
PRODID:-//ChamberMaster//Event Calendar 2.0//EN
METHOD:PUBLISH
X-PUBLISHED-TTL:P3D
REFRESH-INTERVAL:P3D
CALSCALE:GREGORIAN
BEGIN:VEVENT
DTSTART:20151210T233000Z
DTEND:20151211T011500Z
X-MICROSOFT-CDO-ALLDAYEVENT:FALSE
SUMMARY:Movie Night
DESCRIPTION:An aged\, retired Sherlock Holmes grapples with an unsolved case involving a beautiful woman. Stars Ian McKellan. Rated PG. Call for the movie title\, (218) 739-9387. Refreshments provided by the Friends of the Library.
X-ALT-DESC;FMTTYPE=text/html:An aged\, retired Sherlock Holmes grapples with an unsolved case involving a beautiful woman. Stars Ian McKellan. Rated PG. Call for the movie title\, (218) 739-9387. Refreshments provided by the Friends of the Library.
LOCATION:Fergus Falls Public Library
UID:e.314.24039
SEQUENCE:3
DTSTAMP:20260425T232840Z
URL:https://business.fergusfalls.com/events/details/movie-night-12-10-2015-24039
END:VEVENT

END:VCALENDAR
