BEGIN:VCALENDAR
VERSION:2.0
PRODID:-//ChamberMaster//Event Calendar 2.0//EN
METHOD:PUBLISH
X-PUBLISHED-TTL:P3D
REFRESH-INTERVAL:P3D
CALSCALE:GREGORIAN
BEGIN:VEVENT
DTSTART:20151112T233000Z
DTEND:20151113T010000Z
X-MICROSOFT-CDO-ALLDAYEVENT:FALSE
SUMMARY:Movie Night: based on "Far from the Madding Crowd"
DESCRIPTION:In Victorian England\, an independent and headstrong woman attracts three very different suitors. A 2015 adaptation based on "Far from the Madding Crowd" by Thomas Hardy. Rated PG. Refreshments provided by the Friends of the Library.
X-ALT-DESC;FMTTYPE=text/html:In Victorian England\, an independent and headstrong woman attracts three very different suitors. A 2015 adaptation based on &quot\;Far from the Madding Crowd&quot\; by Thomas Hardy. Rated PG. Refreshments provided by the Friends of the Library.
LOCATION:Fergus Falls Public Library
UID:e.314.24037
SEQUENCE:3
DTSTAMP:20260426T011253Z
URL:https://business.fergusfalls.com/events/details/movie-night-based-on-far-from-the-madding-crowd-11-12-2015-24037
END:VEVENT

END:VCALENDAR
