BEGIN:VCALENDAR
VERSION:2.0
PRODID:-//ChamberMaster//Event Calendar 2.0//EN
METHOD:PUBLISH
X-PUBLISHED-TTL:P3D
REFRESH-INTERVAL:P3D
CALSCALE:GREGORIAN
BEGIN:VEVENT
DTSTART;VALUE=DATE:20170306
DTEND;VALUE=DATE:20170310
TRANSP:TRANSPARENT
X-MICROSOFT-CDO-ALLDAYEVENT:TRUE
SUMMARY:Movies in Theater
DESCRIPTION:JOHN WICK CHAPTER 2\n\n	R\n\n	2 hours 2 minutes\n\n	(4:10)\, 7:05\n	\n	\n	\n	\n	KONG SKULL ISLAND\n\n	PG13\n\n	1 hour 58 minutes\n\n	7:10\n\n	* NO COMP PASSES ALLOWED\n	\n	\n	\n	\n	LEGO BATMAN\n\n	PG\n\n	1 hour 44 minutes\n\n	(4:40)\, 6:50\n	\n	\n	\n	\n	LION\n\n	PG13\n\n	1 hour 58 minutes\n\n	(4:15)\n	\n	\n	\n	\n	LOGAN\n\n	R\n\n	2 hours 22 minutes\n\n	(4:25)\, 7:15\n	\n	\n	\n	\n	THE SHACK\n\n	PG13\n\n	2 hours 12 minutes\n\n	(4:20)\, 7:00
X-ALT-DESC;FMTTYPE=text/html:<ul class="list-movies clearfix" id="ul_2017-3-9" style="margin: 0px\; padding: 0px 0px 20px\; list-style-type: none\; color: rgb(51\, 51\, 51)\; font-family: Arial\, Verdana\, Times\; font-size: 10px\; background-color: rgb(254\, 228\, 173)\;">\n	<li style="margin: 0px\; padding: 0px 10px 0px 0px\; list-style-type: none\; float: left\; min-height: 200px\; width: 280px\; font-size: 14px\;">\n	<div class="desc" style="margin: 0px\; padding: 0px\; list-style-type: none\; width: 165px\; float: right\;">\n	<h3 style="margin: 0px\; padding: 0px\; list-style-type: none\; text-transform: uppercase\;"><a href="http://www.cectheatres.com/movie/movie_omniweb.cfm?tc=778322545&amp\;tid=5" style="margin: 0px\; padding: 0px\; list-style-type: none\; color: rgb(0\, 0\, 0)\; text-decoration: none\;">JOHN WICK CHAPTER 2</a></h3>\n\n	<p style="margin: 0px\; padding: 0px 0px 20px\; list-style-type: none\;">R<br style="margin: 0px\; padding: 0px\; list-style-type: none\;" />\n	2 hours 2 minutes</p>\n\n	<p style="margin: 0px\; padding: 0px 0px 10px\; list-style-type: none\;"><a class="buy-ticket-time" href="https://omniwebticketing2.com/cec/westridge/?schdate=2017-03-09&amp\;perfix=15395" style="margin: 0px\; padding: 0px 0px 0px 20px\; list-style-type: none\; background-image: url(&quot\;/images/ui/ticket-icon.png&quot\;)\; background-repeat: no-repeat\; display: inline-block\; color: rgb(153\, 51\, 0)\; text-decoration: none\; font-weight: bold\;">(4:10)</a>\,&nbsp\;<a class="buy-ticket-time" href="https://omniwebticketing2.com/cec/westridge/?schdate=2017-03-09&amp\;perfix=15390" style="margin: 0px\; padding: 0px 0px 0px 20px\; list-style-type: none\; background-image: url(&quot\;/images/ui/ticket-icon.png&quot\;)\; background-repeat: no-repeat\; display: inline-block\; color: rgb(153\, 51\, 0)\; text-decoration: none\; font-weight: bold\;">7:05</a></p>\n	</div>\n	</li>\n	<li style="margin: 0px\; padding: 0px 10px 0px 0px\; list-style-type: none\; float: left\; min-height: 200px\; width: 280px\; font-size: 14px\;">\n	<div class="desc" style="margin: 0px\; padding: 0px\; list-style-type: none\; width: 165px\; float: right\;">\n	<h3 style="margin: 0px\; padding: 0px\; list-style-type: none\; text-transform: uppercase\;"><a href="http://www.cectheatres.com/movie/movie_omniweb.cfm?tc=637491218&amp\;tid=5" style="margin: 0px\; padding: 0px\; list-style-type: none\; color: rgb(153\, 51\, 0)\; text-decoration: none\;">KONG SKULL ISLAND</a></h3>\n\n	<p style="margin: 0px\; padding: 0px 0px 20px\; list-style-type: none\;">PG13<br style="margin: 0px\; padding: 0px\; list-style-type: none\;" />\n	1 hour 58 minutes</p>\n\n	<p style="margin: 0px\; padding: 0px 0px 10px\; list-style-type: none\;"><a class="buy-ticket-time" href="https://omniwebticketing2.com/cec/westridge/?schdate=2017-03-09&amp\;perfix=15396" style="margin: 0px\; padding: 0px 0px 0px 20px\; list-style-type: none\; background-image: url(&quot\;/images/ui/ticket-icon.png&quot\;)\; background-repeat: no-repeat\; display: inline-block\; color: rgb(153\, 51\, 0)\; text-decoration: none\; font-weight: bold\;">7:10</a></p>\n\n	<p style="margin: 0px\; padding: 0px 0px 20px\; list-style-type: none\; font-size: 10px\; font-weight: bold\; text-transform: uppercase\;">* NO COMP PASSES ALLOWED</p>\n	</div>\n	</li>\n	<li style="margin: 0px\; padding: 0px 10px 0px 0px\; list-style-type: none\; float: left\; min-height: 200px\; width: 280px\; font-size: 14px\;">\n	<div class="desc" style="margin: 0px\; padding: 0px\; list-style-type: none\; width: 165px\; float: right\;">\n	<h3 style="margin: 0px\; padding: 0px\; list-style-type: none\; text-transform: uppercase\;"><a href="http://www.cectheatres.com/movie/movie_omniweb.cfm?tc=124788594&amp\;tid=5" style="margin: 0px\; padding: 0px\; list-style-type: none\; color: rgb(153\, 51\, 0)\; text-decoration: none\;">LEGO BATMAN</a></h3>\n\n	<p style="margin: 0px\; padding: 0px 0px 20px\; list-style-type: none\;">PG<br style="margin: 0px\; padding: 0px\; list-style-type: none\;" />\n	1 hour 44 minutes</p>\n\n	<p style="margin: 0px\; padding: 0px 0px 10px\; list-style-type: none\;"><a class="buy-ticket-time" href="https://omniwebticketing2.com/cec/westridge/?schdate=2017-03-09&amp\;perfix=15386" style="margin: 0px\; padding: 0px 0px 0px 20px\; list-style-type: none\; background-image: url(&quot\;/images/ui/ticket-icon.png&quot\;)\; background-repeat: no-repeat\; display: inline-block\; color: rgb(153\, 51\, 0)\; text-decoration: none\; font-weight: bold\;">(4:40)</a>\,&nbsp\;<a class="buy-ticket-time" href="https://omniwebticketing2.com/cec/westridge/?schdate=2017-03-09&amp\;perfix=15387" style="margin: 0px\; padding: 0px 0px 0px 20px\; list-style-type: none\; background-image: url(&quot\;/images/ui/ticket-icon.png&quot\;)\; background-repeat: no-repeat\; display: inline-block\; color: rgb(153\, 51\, 0)\; text-decoration: none\; font-weight: bold\;">6:50</a></p>\n	</div>\n	</li>\n	<li style="margin: 0px\; padding: 0px 10px 0px 0px\; list-style-type: none\; float: left\; min-height: 200px\; width: 280px\; font-size: 14px\;">\n	<div class="desc" style="margin: 0px\; padding: 0px\; list-style-type: none\; width: 165px\; float: right\;">\n	<h3 style="margin: 0px\; padding: 0px\; list-style-type: none\; text-transform: uppercase\;"><a href="http://www.cectheatres.com/movie/movie_omniweb.cfm?tc=850069606&amp\;tid=5" style="margin: 0px\; padding: 0px\; list-style-type: none\; color: rgb(153\, 51\, 0)\; text-decoration: none\;">LION</a></h3>\n\n	<p style="margin: 0px\; padding: 0px 0px 20px\; list-style-type: none\;">PG13<br style="margin: 0px\; padding: 0px\; list-style-type: none\;" />\n	1 hour 58 minutes</p>\n\n	<p style="margin: 0px\; padding: 0px 0px 10px\; list-style-type: none\;"><a class="buy-ticket-time" href="https://omniwebticketing2.com/cec/westridge/?schdate=2017-03-09&amp\;perfix=15388" style="margin: 0px\; padding: 0px 0px 0px 20px\; list-style-type: none\; background-image: url(&quot\;/images/ui/ticket-icon.png&quot\;)\; background-repeat: no-repeat\; display: inline-block\; color: rgb(153\, 51\, 0)\; text-decoration: none\; font-weight: bold\;">(4:15)</a></p>\n	</div>\n	</li>\n	<li style="margin: 0px\; padding: 0px 10px 0px 0px\; list-style-type: none\; float: left\; min-height: 200px\; width: 280px\; font-size: 14px\;">\n	<div class="desc" style="margin: 0px\; padding: 0px\; list-style-type: none\; width: 165px\; float: right\;">\n	<h3 style="margin: 0px\; padding: 0px\; list-style-type: none\; text-transform: uppercase\;"><a href="http://www.cectheatres.com/movie/movie_omniweb.cfm?tc=196808176&amp\;tid=5" style="margin: 0px\; padding: 0px\; list-style-type: none\; color: rgb(153\, 51\, 0)\; text-decoration: none\;">LOGAN</a></h3>\n\n	<p style="margin: 0px\; padding: 0px 0px 20px\; list-style-type: none\;">R<br style="margin: 0px\; padding: 0px\; list-style-type: none\;" />\n	2 hours 22 minutes</p>\n\n	<p style="margin: 0px\; padding: 0px 0px 10px\; list-style-type: none\;"><a class="buy-ticket-time" href="https://omniwebticketing2.com/cec/westridge/?schdate=2017-03-09&amp\;perfix=15393" style="margin: 0px\; padding: 0px 0px 0px 20px\; list-style-type: none\; background-image: url(&quot\;/images/ui/ticket-icon.png&quot\;)\; background-repeat: no-repeat\; display: inline-block\; color: rgb(153\, 51\, 0)\; text-decoration: none\; font-weight: bold\;">(4:25)</a>\,&nbsp\;<a class="buy-ticket-time" href="https://omniwebticketing2.com/cec/westridge/?schdate=2017-03-09&amp\;perfix=15394" style="margin: 0px\; padding: 0px 0px 0px 20px\; list-style-type: none\; background-image: url(&quot\;/images/ui/ticket-icon.png&quot\;)\; background-repeat: no-repeat\; display: inline-block\; color: rgb(153\, 51\, 0)\; text-decoration: none\; font-weight: bold\;">7:15</a></p>\n	</div>\n	</li>\n	<li style="margin: 0px\; padding: 0px 10px 0px 0px\; list-style-type: none\; float: left\; min-height: 200px\; width: 280px\; font-size: 14px\;">\n	<div class="desc" style="margin: 0px\; padding: 0px\; list-style-type: none\; width: 165px\; float: right\;">\n	<h3 style="margin: 0px\; padding: 0px\; list-style-type: none\; text-transform: uppercase\;"><a href="http://www.cectheatres.com/movie/movie_omniweb.cfm?tc=905318248&amp\;tid=5" style="margin: 0px\; padding: 0px\; list-style-type: none\; color: rgb(153\, 51\, 0)\; text-decoration: none\;">THE SHACK</a></h3>\n\n	<p style="margin: 0px\; padding: 0px 0px 20px\; list-style-type: none\;">PG13<br style="margin: 0px\; padding: 0px\; list-style-type: none\;" />\n	2 hours 12 minutes</p>\n\n	<p style="margin: 0px\; padding: 0px 0px 10px\; list-style-type: none\;"><a class="buy-ticket-time" href="https://omniwebticketing2.com/cec/westridge/?schdate=2017-03-09&amp\;perfix=15391" style="margin: 0px\; padding: 0px 0px 0px 20px\; list-style-type: none\; background-image: url(&quot\;/images/ui/ticket-icon.png&quot\;)\; background-repeat: no-repeat\; display: inline-block\; color: rgb(153\, 51\, 0)\; text-decoration: none\; font-weight: bold\;">(4:20)</a>\,&nbsp\;<a class="buy-ticket-time" href="https://omniwebticketing2.com/cec/westridge/?schdate=2017-03-09&amp\;perfix=15392" style="margin: 0px\; padding: 0px 0px 0px 20px\; list-style-type: none\; background-image: url(&quot\;/images/ui/ticket-icon.png&quot\;)\; background-repeat: no-repeat\; display: inline-block\; color: rgb(153\, 51\, 0)\; text-decoration: none\; font-weight: bold\;">7:00</a></p>\n	</div>\n	</li>\n</ul>\n
LOCATION:Movie Line: 1-218-736-1206 Business Line: 1-218-736-7240 Ticket Prices $8.50 General Admission $6.50 Matinee (shows before 6 pm) $6.50 Senior Admission (ages 62 and over) $6.50 Child Admission (ages 3 - 12 - under 3 are free) Additional Pricing Adult Senior Child 3D Movies $2.25 $2.25 $2.25 Theatre Information Auditorium Rentals Private Group Showings Theatre Amenities - 3D Digital Projection - 4 Day Advance Ticket Sale - ATM - Audio Description - Closed Caption Devices - Digital Sound - Handicap Accessible - Hearing Assisted Listening Devices - Hollywood Movie Money & E-Movie Cash Accepted - Stadium Seating - Visa/MC/Discover Accepted
UID:e.314.38735
SEQUENCE:3
DTSTAMP:20260424T211338Z
URL:https://business.fergusfalls.com/events/details/movies-in-theater-38735
END:VEVENT

END:VCALENDAR
