BEGIN:VCALENDAR
VERSION:2.0
PRODID:-//ChamberMaster//Event Calendar 2.0//EN
METHOD:PUBLISH
X-PUBLISHED-TTL:P3D
REFRESH-INTERVAL:P3D
CALSCALE:GREGORIAN
BEGIN:VEVENT
DTSTART:20161209T180000Z
DTEND:20161215T180000Z
X-MICROSOFT-CDO-ALLDAYEVENT:FALSE
SUMMARY:Movies In Theatre
DESCRIPTION:MOVIE TIME SCHEDULE      \n\n      \n\n Play Week December 9th-15th     \n\n MOVIE TITLE RTG Friday  Saturday-Sunday  Mon-Wed Thurs Dec 15\n\n Moana  PG 425 700 920 1240 425 700 920 425 700 425 700\n\n Trolls  PG 415 1205 205 415  415 415\n\n Fantastic Beasts and Where to Find Them PG13 410 700 945 1210 410 700 945 410  700  410  700 \n\n Bad Santa 2  R  725 925  725 925 725 \n\n Allied  R 415 655 935 100 415 655 935 415 655 415\n\n Office Christmas Party  R 445 715 930 1215 230 445 715 930 445 715 445 715\n\n Rogue One: A Star Wars Story  PG-13    7:00
X-ALT-DESC;FMTTYPE=text/html:MOVIE TIME SCHEDULE&nbsp\;&nbsp\;&nbsp\;&nbsp\;&nbsp\;&nbsp\;<br />\n&nbsp\;&nbsp\;&nbsp\;&nbsp\;&nbsp\;&nbsp\;<br />\n&nbsp\;<strong>Play Week December 9th-15th&nbsp\;&nbsp\;&nbsp\;&nbsp\;&nbsp\;<br />\n&nbsp\;MOVIE TITLE&nbsp\;RTG&nbsp\;Friday&nbsp\;&nbsp\;Saturday-Sunday&nbsp\;&nbsp\;Mon-Wed&nbsp\;Thurs Dec 15</strong><br />\n<strong>&nbsp\;Moana</strong>&nbsp\;&nbsp\;PG&nbsp\;425 700 920&nbsp\;1240 425 700 920&nbsp\;425 700&nbsp\;425 700<br />\n<strong>&nbsp\;Trolls</strong>&nbsp\;&nbsp\;PG&nbsp\;415&nbsp\;1205 205 415&nbsp\;&nbsp\;415&nbsp\;415<br />\n&nbsp\;<strong>Fantastic Beasts and Where to Find Them</strong>&nbsp\;PG13&nbsp\;410 700 945&nbsp\;1210 410 700 945&nbsp\;410 &nbsp\;700&nbsp\;&nbsp\;410 &nbsp\;700&nbsp\;<br />\n<strong>&nbsp\;Bad Santa 2</strong>&nbsp\;&nbsp\;R&nbsp\;&nbsp\;725 925&nbsp\;&nbsp\;725 925&nbsp\;725&nbsp\;<br />\n&nbsp\;<strong>Allied&nbsp\;&nbsp\;</strong>R&nbsp\;415 655 935&nbsp\;100 415 655 935&nbsp\;415 655&nbsp\;415<br />\n<strong>&nbsp\;Office Christmas Party</strong>&nbsp\;&nbsp\;R&nbsp\;445 715 930&nbsp\;1215 230 445 715 930&nbsp\;445 715&nbsp\;445 715<br />\n<strong>&nbsp\;Rogue One</strong>: A Star Wars Story&nbsp\;&nbsp\;PG-13&nbsp\;&nbsp\;&nbsp\;&nbsp\;7:00
LOCATION:Westridge Theatre 2001 Lincoln Ave West Fergus Falls\, MN 56537
UID:e.314.37215
SEQUENCE:3
DTSTAMP:20260425T022700Z
URL:https://business.fergusfalls.com/events/details/movies-in-theatre-37215
END:VEVENT

END:VCALENDAR
