BEGIN:VCALENDAR
VERSION:2.0
PRODID:-//ChamberMaster//Event Calendar 2.0//EN
METHOD:PUBLISH
X-PUBLISHED-TTL:P3D
REFRESH-INTERVAL:P3D
CALSCALE:GREGORIAN
BEGIN:VEVENT
DTSTART;VALUE=DATE:20170324
DTEND;VALUE=DATE:20170330
TRANSP:TRANSPARENT
X-MICROSOFT-CDO-ALLDAYEVENT:TRUE
SUMMARY:Movies In Theatre
DESCRIPTION:Beauty & the Beast\n\nBeauty & the Beast 3D\n\nLife\n\nPower Rangers
X-ALT-DESC;FMTTYPE=text/html:Beauty &amp\; the Beast<br />\nBeauty &amp\; the Beast 3D<br />\nLife<br />\nPower Rangers
LOCATION:Westridge Theatre 2001 Lincoln Ave West Fergus Falls\, MN 56537
UID:e.314.38927
SEQUENCE:3
DTSTAMP:20260424T211435Z
URL:https://business.fergusfalls.com/events/details/movies-in-theatre-38927
END:VEVENT

END:VCALENDAR
