BEGIN:VCALENDAR
VERSION:2.0
PRODID:-//ChamberMaster//Event Calendar 2.0//EN
METHOD:PUBLISH
X-PUBLISHED-TTL:P3D
REFRESH-INTERVAL:P3D
CALSCALE:GREGORIAN
BEGIN:VEVENT
DTSTART;VALUE=DATE:20180409
DTEND;VALUE=DATE:20180413
TRANSP:TRANSPARENT
X-MICROSOFT-CDO-ALLDAYEVENT:TRUE
SUMMARY:Movies in Theatre
DESCRIPTION:RATING\n			DUR\n			Movie Title\n			MATINEE\n			TWILIGHT \n			EVENING\n		\n		\n			 \n			 \n			 \n			 \n			 \n			 \n			 \n			 \n		\n		\n			PG\n			1:50\n			I Can Only Imagine\n			12:05\n			2:25\n			4:45\n			7:10\n			9:30\n		\n		\n			 \n			 \n			 \n			1:55\n			4:15\n			6:35\n			9:00\n			11:20\n		\n		\n			PG\n			1:23\n			Sherlock Gnomes\n			12:20\n			2:15\n			4:25\n			6:40\n			 \n		\n		\n			 \n			 \n			 \n			1:45\n			3:40\n			5:50\n			8:05\n			9:00\n		\n		\n			PG13\n			2:20\n			Ready Player One (9:00) \n			 \n			 \n			 \n			 \n			11:20\n		\n		\n			PG13\n			1:35\n			Quiet Place\n			12:15\n			2:30\n			4:40\n			7:10\n			9:10\n		\n		\n			 \n			 \n			 \n			1:45\n			4:00\n			6:10\n			8:40\n			10:40\n		\n		\n			R\n			1:42\n			Blockers\n			12:05\n			2:10\n			4:30\n			7:05\n			9:20\n		\n		\n			 \n			 \n			 \n			1:47\n			3:53\n			6:12\n			8:40\n			11:02\n		\n		\n			PG13\n			2:20\n			Ready Player One\n			1:00\n			 \n			4:00\n			6:50\n			 \n		\n		\n			 \n			 \n			 \n			3:20\n			 \n			6:20\n			9:10
X-ALT-DESC;FMTTYPE=text/html:<table border="0" cellpadding="0" cellspacing="0" style="width: 340px\; border-collapse: collapse\;" width="738">\n	<tbody>\n		<tr height="27" style="height: 27px\;">\n			<td height="27" style="border-width: 1pt 0.5pt 0px\; border-style: solid solid none\; width: 55px\; height: 27px\;"><strong><span style="font-size: small\;">RATING</span></strong></td>\n			<td style="border-width: 1pt 0.5pt 0px 0px\; border-style: solid solid none none\; width: 36px\;"><strong><span style="font-size: small\;">DUR</span></strong></td>\n			<td style="border-width: 1pt 0.5pt 0px 0px\; border-style: solid solid none none\; width: 289px\;"><strong><span style="font-size: large\;">Movie Title</span></strong></td>\n			<td colspan="2" style="border-width: 1pt 0px 0.5pt\; border-style: solid none\; width: 141px\;"><strong><span style="font-size: medium\;">MATINEE</span></strong></td>\n			<td style="border: 0px black\; border-image: none\; width: 83px\;"><strong><span style="font-size: medium\;">TWILIGHT&nbsp\;</span></strong></td>\n			<td colspan="2" style="border-width: 0px 1pt 0px 0.5pt\; border-style: none solid\; width: 136px\;"><strong><span style="font-size: medium\;">EVENING</span></strong></td>\n		</tr>\n		<tr height="14" style="height: 14px\;">\n			<td height="14" style="border-width: 0.5pt 0px 0px\; border-style: solid none none\; height: 14px\;">&nbsp\;</td>\n			<td style="border-width: 0.5pt 0px 0px\; border-style: solid none none\;">&nbsp\;</td>\n			<td style="border-width: 0.5pt 0.5pt 0px 0px\; border-style: solid solid none none\;">&nbsp\;</td>\n			<td style="border: 0px black\; border-image: none\;">&nbsp\;</td>\n			<td style="border: 0px black\; border-image: none\;">&nbsp\;</td>\n			<td style="border-width: 0.5pt 0.5pt 0px 0px\; border-style: solid solid none none\;">&nbsp\;</td>\n			<td style="border-width: 0.5pt 0px 0px\; border-style: solid none none\;">&nbsp\;</td>\n			<td style="border-width: 0.5pt 0.5pt 0px 0px\; border-style: solid solid none none\;">&nbsp\;</td>\n		</tr>\n		<tr height="27" style="height: 27px\;">\n			<td height="27" style="border-width: 0.5pt 0px 0.5pt 0.5pt\; border-style: solid none solid solid\; height: 27px\;"><strong><span style="font-size: medium\;">PG</span></strong></td>\n			<td style="border: 0.5pt solid windowtext\; border-image: none\;"><span style="font-size: small\;">1:50</span></td>\n			<td style="border-width: 0px 0.5pt 0px 0px\; border-style: none solid none none\;"><strong><span style="font-size: medium\;">I Can Only Imagine</span></strong></td>\n			<td style="border: 0px black\; border-image: none\;"><strong><span style="font-size: medium\;">12:05</span></strong></td>\n			<td style="border: 0px black\; border-image: none\;"><strong><span style="font-size: medium\;">2:25</span></strong></td>\n			<td style="border-width: 0px 0.5pt 0px 0px\; border-style: none solid none none\;"><strong><span style="font-size: medium\;">4:45</span></strong></td>\n			<td style="border: 0px black\; border-image: none\;"><strong><span style="font-size: medium\;">7:10</span></strong></td>\n			<td style="border-width: 0px 0.5pt 0px 0px\; border-style: none solid none none\;"><strong><span style="font-size: medium\;">9:30</span></strong></td>\n		</tr>\n		<tr height="27" style="height: 27px\;">\n			<td height="27" style="border-width: 0px 0px 0.5pt\; border-style: none none solid\; height: 27px\;">&nbsp\;</td>\n			<td style="border-width: 0px 0.5pt 0.5pt\; border-style: none solid solid\;">&nbsp\;</td>\n			<td style="border-width: 0px 0.5pt 0px 0px\; border-style: none solid none none\;">&nbsp\;</td>\n			<td style="border: 0px black\; border-image: none\;"><span style="font-size: small\;">1:55</span></td>\n			<td style="border: 0px black\; border-image: none\;"><span style="font-size: small\;">4:15</span></td>\n			<td style="border-width: 0px 0.5pt 0px 0px\; border-style: none solid none none\;"><span style="font-size: small\;">6:35</span></td>\n			<td style="border: 0px black\; border-image: none\;"><span style="font-size: small\;">9:00</span></td>\n			<td style="border-width: 0px 0.5pt 0px 0px\; border-style: none solid none none\;"><span style="font-size: small\;">11:20</span></td>\n		</tr>\n		<tr height="28" style="height: 28px\;">\n			<td height="28" style="border-width: 0px 0px 0.5pt 0.5pt\; border-style: none none solid solid\; height: 28px\;"><strong><span style="font-size: medium\;">PG</span></strong></td>\n			<td style="border-width: 0px 0.5pt 0.5pt\; border-style: none solid solid\;"><span style="font-size: small\;">1:23</span></td>\n			<td style="border-width: 0px 0.5pt 0px 0px\; border-style: none solid none none\;"><strong><span style="font-size: medium\;">Sherlock Gnomes</span></strong></td>\n			<td style="border: 0px black\; border-image: none\;"><strong><span style="font-size: medium\;">12:20</span></strong></td>\n			<td style="border: 0px black\; border-image: none\;"><strong><span style="font-size: medium\;">2:15</span></strong></td>\n			<td style="border-width: 0px 0.5pt 0px 0px\; border-style: none solid none none\;"><strong><span style="font-size: medium\;">4:25</span></strong></td>\n			<td style="border: 0px black\; border-image: none\;"><strong><span style="font-size: medium\;">6:40</span></strong></td>\n			<td style="border-width: 0px 0.5pt 0px 0px\; border-style: none solid none none\;">&nbsp\;</td>\n		</tr>\n		<tr height="28" style="height: 28px\;">\n			<td height="28" style="border-width: 0px 0.5pt 0.5pt\; border-style: none solid solid\; height: 28px\;">&nbsp\;</td>\n			<td style="border-width: 0px 0.5pt 0.5pt 0px\; border-style: none solid solid none\;">&nbsp\;</td>\n			<td style="border-width: 0px 0.5pt 0px 0px\; border-style: none solid none none\;">&nbsp\;</td>\n			<td style="border: 0px black\; border-image: none\;"><span style="font-size: small\;">1:45</span></td>\n			<td style="border: 0px black\; border-image: none\;"><span style="font-size: small\;">3:40</span></td>\n			<td style="border-width: 0px 0.5pt 0px 0px\; border-style: none solid none none\;"><span style="font-size: small\;">5:50</span></td>\n			<td style="border: 0px black\; border-image: none\;"><span style="font-size: small\;">8:05</span></td>\n			<td style="border: 0px black\; border-image: none\;"><strong><span style="font-size: medium\;">9:00</span></strong></td>\n		</tr>\n		<tr height="28" style="height: 28px\;">\n			<td height="28" style="border-width: 0px 0.5pt 0.5pt\; border-style: none solid solid\; height: 28px\;"><strong><span style="font-size: medium\;">PG13</span></strong></td>\n			<td style="border-width: 0px 0.5pt 0.5pt 0px\; border-style: none solid solid none\;"><span style="font-size: small\;">2:20</span></td>\n			<td style="border-width: 0px 0.5pt 0px 0px\; border-style: none solid none none\;"><strong><span style="font-size: medium\;">Ready Player One (9:00)&nbsp\;</span></strong></td>\n			<td style="border: 0px black\; border-image: none\;">&nbsp\;</td>\n			<td style="border: 0px black\; border-image: none\;">&nbsp\;</td>\n			<td style="border-width: 0px 0.5pt 0px 0px\; border-style: none solid none none\;">&nbsp\;</td>\n			<td style="border: 0px black\; border-image: none\;">&nbsp\;</td>\n			<td style="border-width: 0px 0.5pt 0px 0px\; border-style: none solid none none\;"><span style="font-size: small\;">11:20</span></td>\n		</tr>\n		<tr height="28" style="height: 28px\;">\n			<td height="28" style="border-width: 0px 0px 0.5pt 0.5pt\; border-style: none none solid solid\; height: 28px\;"><strong><span style="font-size: medium\;">PG13</span></strong></td>\n			<td style="border-width: 0px 0.5pt 0.5pt\; border-style: none solid solid\;"><span style="font-size: small\;">1:35</span></td>\n			<td style="border-width: 0px 0.5pt 0px 0px\; border-style: none solid none none\;"><strong><span style="font-size: medium\;">Quiet Place</span></strong></td>\n			<td style="border: 0px black\; border-image: none\;"><strong><span style="font-size: medium\;">12:15</span></strong></td>\n			<td style="border: 0px black\; border-image: none\;"><strong><span style="font-size: medium\;">2:30</span></strong></td>\n			<td style="border-width: 0px 0.5pt 0px 0px\; border-style: none solid none none\;"><strong><span style="font-size: medium\;">4:40</span></strong></td>\n			<td style="border: 0px black\; border-image: none\;"><strong><span style="font-size: medium\;">7:10</span></strong></td>\n			<td style="border-width: 0px 0.5pt 0px 0px\; border-style: none solid none none\;"><strong><span style="font-size: medium\;">9:10</span></strong></td>\n		</tr>\n		<tr height="28" style="height: 28px\;">\n			<td height="28" style="border-width: 0px 0px 0.5pt\; border-style: none none solid\; height: 28px\;">&nbsp\;</td>\n			<td style="border-width: 0px 0.5pt 0.5pt\; border-style: none solid solid\;">&nbsp\;</td>\n			<td style="border-width: 0px 0.5pt 0px 0px\; border-style: none solid none none\;">&nbsp\;</td>\n			<td style="border: 0px black\; border-image: none\;"><span style="font-size: small\;">1:45</span></td>\n			<td style="border: 0px black\; border-image: none\;"><span style="font-size: small\;">4:00</span></td>\n			<td style="border-width: 0px 0.5pt 0px 0px\; border-style: none solid none none\;"><span style="font-size: small\;">6:10</span></td>\n			<td style="border: 0px black\; border-image: none\;"><span style="font-size: small\;">8:40</span></td>\n			<td style="border-width: 0px 0.5pt 0px 0px\; border-style: none solid none none\;"><span style="font-size: small\;">10:40</span></td>\n		</tr>\n		<tr height="28" style="height: 28px\;">\n			<td height="28" style="border-width: 0px 0px 0.5pt 0.5pt\; border-style: none none solid solid\; height: 28px\;"><strong><span style="font-size: medium\;">R</span></strong></td>\n			<td style="border-width: 0px 0.5pt 0.5pt\; border-style: none solid solid\;"><span style="font-size: small\;">1:42</span></td>\n			<td style="border-width: 0px 0.5pt 0px 0px\; border-style: none solid none none\;"><strong><span style="font-size: medium\;">Blockers</span></strong></td>\n			<td style="border: 0px black\; border-image: none\;"><strong><span style="font-size: medium\;">12:05</span></strong></td>\n			<td style="border: 0px black\; border-image: none\;"><strong><span style="font-size: medium\;">2:10</span></strong></td>\n			<td style="border-width: 0px 0.5pt 0px 0px\; border-style: none solid none none\;"><strong><span style="font-size: medium\;">4:30</span></strong></td>\n			<td style="border: 0px black\; border-image: none\;"><strong><span style="font-size: medium\;">7:05</span></strong></td>\n			<td style="border-width: 0px 0.5pt 0px 0px\; border-style: none solid none none\;"><strong><span style="font-size: medium\;">9:20</span></strong></td>\n		</tr>\n		<tr height="28" style="height: 28px\;">\n			<td height="28" style="border-width: 0px 0.5pt 0.5pt\; border-style: none solid solid\; height: 28px\;">&nbsp\;</td>\n			<td style="border-width: 0px 0.5pt 0.5pt 0px\; border-style: none solid solid none\;">&nbsp\;</td>\n			<td style="border-width: 0px 0.5pt 0px 0px\; border-style: none solid none none\;">&nbsp\;</td>\n			<td style="border: 0px black\; border-image: none\;"><span style="font-size: small\;">1:47</span></td>\n			<td style="border: 0px black\; border-image: none\;"><span style="font-size: small\;">3:53</span></td>\n			<td style="border-width: 0px 0.5pt 0px 0px\; border-style: none solid none none\;"><span style="font-size: small\;">6:12</span></td>\n			<td style="border-width: 0px 0.5pt 0px 0px\; border-style: none solid none none\;"><span style="font-size: small\;">8:40</span></td>\n			<td style="border-width: 0px 0.5pt 0px 0px\; border-style: none solid none none\;"><span style="font-size: small\;">11:02</span></td>\n		</tr>\n		<tr height="28" style="height: 28px\;">\n			<td height="28" style="border-width: 0px 0px 0.5pt 0.5pt\; border-style: none none solid solid\; height: 28px\;"><strong><span style="font-size: medium\;">PG13</span></strong></td>\n			<td style="border-width: 0px 0.5pt 0.5pt\; border-style: none solid solid\;"><span style="font-size: small\;">2:20</span></td>\n			<td style="border-width: 0px 0.5pt 0px 0px\; border-style: none solid none none\;"><strong><span style="font-size: medium\;">Ready Player One</span></strong></td>\n			<td style="border: 0px black\; border-image: none\;"><strong><span style="font-size: medium\;">1:00</span></strong></td>\n			<td style="border: 0px black\; border-image: none\;">&nbsp\;</td>\n			<td style="border-width: 0px 0.5pt 0px 0px\; border-style: none solid none none\;"><strong><span style="font-size: medium\;">4:00</span></strong></td>\n			<td style="border: 0px black\; border-image: none\;"><strong><span style="font-size: medium\;">6:50</span></strong></td>\n			<td style="border-width: 0px 0.5pt 0px 0px\; border-style: none solid none none\;">&nbsp\;</td>\n		</tr>\n		<tr height="28" style="height: 28px\;">\n			<td height="28" style="border-width: 0px 0.5pt 0.5pt\; border-style: none solid solid\; height: 28px\;">&nbsp\;</td>\n			<td style="border-width: 0px 0.5pt 0.5pt 0px\; border-style: none solid solid none\;">&nbsp\;</td>\n			<td style="border-width: 0px 0.5pt 0px 0px\; border-style: none solid none none\;">&nbsp\;</td>\n			<td style="border: 0px black\; border-image: none\;"><span style="font-size: small\;">3:20</span></td>\n			<td style="border: 0px black\; border-image: none\;">&nbsp\;</td>\n			<td style="border-width: 0px 0.5pt 0px 0px\; border-style: none solid none none\;"><span style="font-size: small\;">6:20</span></td>\n			<td style="border: 0px black\; border-image: none\;"><span style="font-size: small\;">9:10</span></td>\n			<td style="border-width: 0px 0.5pt 0px 0px\; border-style: none solid none none\;">&nbsp\;</td>\n		</tr>\n	</tbody>\n	<colgroup>\n		<col style="width: 55px\;" />\n		<col style="width: 36px\;" />\n		<col style="width: 289px\;" />\n		<col style="width: 73px\;" />\n		<col style="width: 68px\;" />\n		<col style="width: 83px\;" />\n		<col span="2" style="width: 68px\;" />\n	</colgroup>\n</table>\n
LOCATION:
UID:e.314.47716
SEQUENCE:3
DTSTAMP:20260424T000619Z
URL:https://business.fergusfalls.com/events/details/movies-in-theatre-47716
END:VEVENT

END:VCALENDAR
