BEGIN:VCALENDAR
VERSION:2.0
PRODID:-//ChamberMaster//Event Calendar 2.0//EN
METHOD:PUBLISH
X-PUBLISHED-TTL:P3D
REFRESH-INTERVAL:P3D
CALSCALE:GREGORIAN
BEGIN:VEVENT
DTSTART;VALUE=DATE:20180420
DTEND;VALUE=DATE:20180427
TRANSP:TRANSPARENT
X-MICROSOFT-CDO-ALLDAYEVENT:TRUE
SUMMARY:Movies in Theatre
DESCRIPTION:Movie Title\n			MATINEE\n			TWILIGHT \n			EVENING\n		\n		\n			 \n			 \n			 \n			 \n			 \n			 \n		\n		\n			Avengers: Infinity War\n			12:30\n			 \n			3:45\n			7:00\n			 \n		\n		\n			 \n			2:59\n			 \n			6:14\n			9:29\n			 \n		\n		\n			Avengers: Infinity War\n			 \n			 \n			 \n			 \n			 \n		\n		\n			 \n			 \n			 \n			 \n			 \n			 \n		\n		\n			I Feel Pretty \n			12:00\n			2:10\n			4:30\n			7:05\n			9:20\n		\n		\n			 \n			2:00\n			4:07\n			6:27\n			9:02\n			11:17\n		\n		\n			Quiet Place\n			12:15\n			2:30\n			4:40\n			7:10\n			9:10\n		\n		\n			 \n			1:45\n			4:00\n			6:10\n			8:40\n			10:40\n		\n		\n			Rampage\n			12:00\n			2:15\n			4:35\n			7:05\n			9:35\n		\n		\n			 \n			1:50\n			4:05\n			6:25\n			8:55\n			11:25\n		\n		\n			 \n			 \n			 \n			 \n			 \n			 \n		\n		\n			 \n			 \n			 \n			 \n			 \n			 \n		\n		\n			 \n			 \n			Highlighted times: Weekday showtimes
X-ALT-DESC;FMTTYPE=text/html:<table border="0" cellpadding="0" cellspacing="0" style="width: 216.3px\; border-collapse: collapse\;" width="648">\n	<tbody>\n		<tr height="27" style="height: 27px\;">\n			<td height="27" style="border-width: 1pt 0.5pt 0px 0px\; border-style: solid solid none none\; width: 289px\; height: 27px\;"><strong><span style="font-size: large\;">Movie Title</span></strong></td>\n			<td colspan="2" style="border-width: 1pt 0px 0.5pt\; border-style: solid none\; width: 141px\;"><strong><span style="font-size: medium\;">MATINEE</span></strong></td>\n			<td style="border: 0px black\; border-image: none\; width: 83px\;"><strong><span style="font-size: medium\;">TWILIGHT&nbsp\;</span></strong></td>\n			<td colspan="2" style="border-width: 0px 1pt 0px 0.5pt\; border-style: none solid\; width: 136px\;"><strong><span style="font-size: medium\;">EVENING</span></strong></td>\n		</tr>\n		<tr height="14" style="height: 14px\;">\n			<td height="14" style="border-width: 0.5pt 0.5pt 0px 0px\; border-style: solid solid none none\; height: 14px\;">&nbsp\;</td>\n			<td style="border: 0px black\; border-image: none\;">&nbsp\;</td>\n			<td style="border: 0px black\; border-image: none\;">&nbsp\;</td>\n			<td style="border-width: 0.5pt 0.5pt 0px 0px\; border-style: solid solid none none\;">&nbsp\;</td>\n			<td style="border-width: 0.5pt 0px 0px\; border-style: solid none none\;">&nbsp\;</td>\n			<td style="border-width: 0.5pt 0.5pt 0px 0px\; border-style: solid solid none none\;">&nbsp\;</td>\n		</tr>\n		<tr height="27" style="height: 27px\;">\n			<td height="27" style="border-width: 0px 0.5pt 0px 0px\; border-style: none solid none none\; height: 27px\;"><strong><span style="font-size: medium\;">Avengers: Infinity War</span></strong></td>\n			<td style="border: 0px black\; border-image: none\;"><strong><span style="font-size: medium\;">12:30</span></strong></td>\n			<td style="border: 0px black\; border-image: none\;">&nbsp\;</td>\n			<td style="border-width: 0px 0.5pt 0px 0px\; border-style: none solid none none\;"><strong><span style="font-size: medium\;">3:45</span></strong></td>\n			<td style="border: 0px black\; border-image: none\;"><strong><span style="font-size: medium\;">7:00</span></strong></td>\n			<td style="border-width: 0px 0.5pt 0px 0px\; border-style: none solid none none\;">&nbsp\;</td>\n		</tr>\n		<tr height="27" style="height: 27px\;">\n			<td height="27" style="border-width: 0px 0.5pt 0px 0px\; border-style: none solid none none\; height: 27px\;">&nbsp\;</td>\n			<td style="border: 0px black\; border-image: none\;"><span style="font-size: small\;">2:59</span></td>\n			<td style="border: 0px black\; border-image: none\;">&nbsp\;</td>\n			<td style="border-width: 0px 0.5pt 0px 0px\; border-style: none solid none none\;"><span style="font-size: small\;">6:14</span></td>\n			<td style="border: 0px black\; border-image: none\;"><span style="font-size: small\;">9:29</span></td>\n			<td style="border-width: 0px 0.5pt 0px 0px\; border-style: none solid none none\;">&nbsp\;</td>\n		</tr>\n		<tr height="28" style="height: 28px\;">\n			<td height="28" style="border-width: 0px 0.5pt 0px 0px\; border-style: none solid none none\; height: 28px\;"><strong><span style="font-size: medium\;">Avengers: Infinity War</span></strong></td>\n			<td style="border: 0px black\; border-image: none\;">&nbsp\;</td>\n			<td style="border: 0px black\; border-image: none\;">&nbsp\;</td>\n			<td style="border-width: 0px 0.5pt 0px 0px\; border-style: none solid none none\;">&nbsp\;</td>\n			<td style="border: 0px black\; border-image: none\;">&nbsp\;</td>\n			<td style="border-width: 0px 0.5pt 0px 0px\; border-style: none solid none none\;">&nbsp\;</td>\n		</tr>\n		<tr height="28" style="height: 28px\;">\n			<td height="28" style="border-width: 0px 0.5pt 0px 0px\; border-style: none solid none none\; height: 28px\;">&nbsp\;</td>\n			<td style="border: 0px black\; border-image: none\;">&nbsp\;</td>\n			<td style="border: 0px black\; border-image: none\;">&nbsp\;</td>\n			<td style="border-width: 0px 0.5pt 0px 0px\; border-style: none solid none none\;">&nbsp\;</td>\n			<td style="border: 0px black\; border-image: none\;">&nbsp\;</td>\n			<td style="border-width: 0px 0.5pt 0px 0px\; border-style: none solid none none\;">&nbsp\;</td>\n		</tr>\n		<tr height="28" style="height: 28px\;">\n			<td height="28" style="border-width: 0px 0.5pt 0px 0px\; border-style: none solid none none\; height: 28px\;"><strong><span style="font-size: medium\;">I Feel Pretty&nbsp\;</span></strong></td>\n			<td style="border: 0px black\; border-image: none\;"><strong><span style="font-size: medium\;">12:00</span></strong></td>\n			<td style="border: 0px black\; border-image: none\;"><strong><span style="font-size: medium\;">2:10</span></strong></td>\n			<td style="border-width: 0px 0.5pt 0px 0px\; border-style: none solid none none\;"><strong><span style="font-size: medium\;">4:30</span></strong></td>\n			<td style="border: 0px black\; border-image: none\;"><strong><span style="font-size: medium\;">7:05</span></strong></td>\n			<td style="border-width: 0px 0.5pt 0px 0px\; border-style: none solid none none\;"><strong><span style="font-size: medium\;">9:20</span></strong></td>\n		</tr>\n		<tr height="28" style="height: 28px\;">\n			<td height="28" style="border-width: 0px 0.5pt 0px 0px\; border-style: none solid none none\; height: 28px\;">&nbsp\;</td>\n			<td style="border: 0px black\; border-image: none\;"><span style="font-size: small\;">2:00</span></td>\n			<td style="border: 0px black\; border-image: none\;"><span style="font-size: small\;">4:07</span></td>\n			<td style="border-width: 0px 0.5pt 0px 0px\; border-style: none solid none none\;"><span style="font-size: small\;">6:27</span></td>\n			<td style="border: 0px black\; border-image: none\;"><span style="font-size: small\;">9:02</span></td>\n			<td style="border-width: 0px 0.5pt 0px 0px\; border-style: none solid none none\;"><span style="font-size: small\;">11:17</span></td>\n		</tr>\n		<tr height="28" style="height: 28px\;">\n			<td height="28" style="border-width: 0px 0.5pt 0px 0px\; border-style: none solid none none\; height: 28px\;"><strong><span style="font-size: medium\;">Quiet Place</span></strong></td>\n			<td style="border: 0px black\; border-image: none\;"><strong><span style="font-size: medium\;">12:15</span></strong></td>\n			<td style="border: 0px black\; border-image: none\;"><strong><span style="font-size: medium\;">2:30</span></strong></td>\n			<td style="border-width: 0px 0.5pt 0px 0px\; border-style: none solid none none\;"><strong><span style="font-size: medium\;">4:40</span></strong></td>\n			<td style="border: 0px black\; border-image: none\;"><strong><span style="font-size: medium\;">7:10</span></strong></td>\n			<td style="border-width: 0px 0.5pt 0px 0px\; border-style: none solid none none\;"><strong><span style="font-size: medium\;">9:10</span></strong></td>\n		</tr>\n		<tr height="28" style="height: 28px\;">\n			<td height="28" style="border-width: 0px 0.5pt 0px 0px\; border-style: none solid none none\; height: 28px\;">&nbsp\;</td>\n			<td style="border: 0px black\; border-image: none\;"><span style="font-size: small\;">1:45</span></td>\n			<td style="border: 0px black\; border-image: none\;"><span style="font-size: small\;">4:00</span></td>\n			<td style="border-width: 0px 0.5pt 0px 0px\; border-style: none solid none none\;"><span style="font-size: small\;">6:10</span></td>\n			<td style="border: 0px black\; border-image: none\;"><span style="font-size: small\;">8:40</span></td>\n			<td style="border-width: 0px 0.5pt 0px 0px\; border-style: none solid none none\;"><span style="font-size: small\;">10:40</span></td>\n		</tr>\n		<tr height="28" style="height: 28px\;">\n			<td height="28" style="border-width: 0px 0.5pt 0px 0px\; border-style: none solid none none\; height: 28px\;"><strong><span style="font-size: medium\;">Rampage</span></strong></td>\n			<td style="border: 0px black\; border-image: none\;"><strong><span style="font-size: medium\;">12:00</span></strong></td>\n			<td style="border: 0px black\; border-image: none\;"><strong><span style="font-size: medium\;">2:15</span></strong></td>\n			<td style="border-width: 0px 0.5pt 0px 0px\; border-style: none solid none none\;"><strong><span style="font-size: medium\;">4:35</span></strong></td>\n			<td style="border: 0px black\; border-image: none\;"><strong><span style="font-size: medium\;">7:05</span></strong></td>\n			<td style="border-width: 0px 0.5pt 0px 0px\; border-style: none solid none none\;"><strong><span style="font-size: medium\;">9:35</span></strong></td>\n		</tr>\n		<tr height="28" style="height: 28px\;">\n			<td height="28" style="border-width: 0px 0.5pt 0px 0px\; border-style: none solid none none\; height: 28px\;">&nbsp\;</td>\n			<td style="border: 0px black\; border-image: none\;"><span style="font-size: small\;">1:50</span></td>\n			<td style="border: 0px black\; border-image: none\;"><span style="font-size: small\;">4:05</span></td>\n			<td style="border-width: 0px 0.5pt 0px 0px\; border-style: none solid none none\;"><span style="font-size: small\;">6:25</span></td>\n			<td style="border: 0px black\; border-image: none\;"><span style="font-size: small\;">8:55</span></td>\n			<td style="border-width: 0px 0.5pt 0px 0px\; border-style: none solid none none\;"><span style="font-size: small\;">11:25</span></td>\n		</tr>\n		<tr height="3" style="height: 3px\;">\n			<td height="3" style="border-width: 0px 0px 0.5pt\; border-style: none none solid\; height: 3px\;">&nbsp\;</td>\n			<td style="border-width: 0px 0px 0.5pt\; border-style: none none solid\;">&nbsp\;</td>\n			<td style="border-width: 0px 0px 0.5pt\; border-style: none none solid\;">&nbsp\;</td>\n			<td style="border-width: 0px 0.5pt 0.5pt 0px\; border-style: none solid solid none\;">&nbsp\;</td>\n			<td style="border-width: 0px 0px 0.5pt\; border-style: none none solid\;">&nbsp\;</td>\n			<td style="border-width: 0px 0.5pt 0.5pt 0px\; border-style: none solid solid none\;">&nbsp\;</td>\n		</tr>\n		<tr height="17" style="height: 17px\;">\n			<td height="17" style="border: 0px black\; border-image: none\; height: 17px\;">&nbsp\;</td>\n			<td style="border: 0px black\; border-image: none\;">&nbsp\;</td>\n			<td style="border: 0px black\; border-image: none\;">&nbsp\;</td>\n			<td style="border: 0px black\; border-image: none\;">&nbsp\;</td>\n			<td style="border: 0px black\; border-image: none\;">&nbsp\;</td>\n			<td style="border: 0px black\; border-image: none\;">&nbsp\;</td>\n		</tr>\n		<tr height="44" style="height: 44px\;">\n			<td height="44" style="border: 0px windowtext\; border-image: none\; height: 44px\;">&nbsp\;</td>\n			<td style="border: 0px windowtext\; border-image: none\;">&nbsp\;</td>\n			<td style="border: 0px windowtext\; border-image: none\;"><span style="font-size: small\;">Highlighted times: Weekday showtimes&nbsp\;</span></td>\n			<td style="border: 0px windowtext\; border-image: none\;">&nbsp\;</td>\n			<td style="border: 0px windowtext\; border-image: none\;">&nbsp\;</td>\n			<td style="border: 0px black\; border-image: none\;">&nbsp\;</td>\n		</tr>\n	</tbody>\n	<colgroup>\n		<col style="width: 289px\;" />\n		<col style="width: 73px\;" />\n		<col style="width: 68px\;" />\n		<col style="width: 83px\;" />\n		<col span="2" style="width: 68px\;" />\n	</colgroup>\n</table>\n
LOCATION:
UID:e.314.48773
SEQUENCE:3
DTSTAMP:20260423T235958Z
URL:https://business.fergusfalls.com/events/details/movies-in-theatre-48773
END:VEVENT

END:VCALENDAR
