BEGIN:VCALENDAR
VERSION:2.0
PRODID:-//ChamberMaster//Event Calendar 2.0//EN
METHOD:PUBLISH
X-PUBLISHED-TTL:P3D
REFRESH-INTERVAL:P3D
CALSCALE:GREGORIAN
BEGIN:VEVENT
DTSTART:20180615T170000Z
DTEND:20180622T023000Z
X-MICROSOFT-CDO-ALLDAYEVENT:FALSE
SUMMARY:Movies in Theatre
DESCRIPTION:Westridge Theatre \n\nFergus Falls\, MN 56537\n\n \n\nINCREDIBLES 2:   12:45     3:30        6:30        9:05\n\nTAG:    12:15     4:45        7:00        9:15\n\nHEREDITARY:  12:45     4:00        7:00        9:30\n\nOCEANS 8:       12:00     4:30        7:10        9:25\n\nADRIFT:         12:25     4:45        7:15        9:20
X-ALT-DESC;FMTTYPE=text/html:<span style="font-size: 26px\;">Westridge Theatre </span><br />\nFergus Falls\, MN 56537<br />\n&nbsp\;<br />\n<span style="font-family: calibri\;"><strong><span style="font-size: 12pt\;">INCREDIBLES 2:</span></strong></span><strong>&nbsp\;&nbsp\;&nbsp\;</strong>12:45&nbsp\;&nbsp\;&nbsp\;&nbsp\; 3:30&nbsp\;&nbsp\;&nbsp\;&nbsp\;&nbsp\;&nbsp\;&nbsp\; 6:30&nbsp\;&nbsp\;&nbsp\;&nbsp\;&nbsp\;&nbsp\;&nbsp\; 9:05<br />\n<span style="font-family: calibri\;"><strong><span style="font-size: 12pt\;">TAG:</span></strong></span>&nbsp\;&nbsp\;&nbsp\; 12:15&nbsp\;&nbsp\;&nbsp\;&nbsp\; 4:45&nbsp\;&nbsp\;&nbsp\;&nbsp\;&nbsp\;&nbsp\;&nbsp\; 7:00&nbsp\;&nbsp\;&nbsp\;&nbsp\;&nbsp\;&nbsp\;&nbsp\; 9:15<br />\n<span style="font-family: calibri\;"><strong><span style="font-size: 12pt\;">HEREDITARY:</span></strong></span>&nbsp\; 12:45&nbsp\;&nbsp\;&nbsp\;&nbsp\; 4:00&nbsp\;&nbsp\;&nbsp\;&nbsp\;&nbsp\;&nbsp\;&nbsp\; 7:00&nbsp\;&nbsp\;&nbsp\;&nbsp\;&nbsp\;&nbsp\;&nbsp\; 9:30<br />\n<span style="font-family: calibri\;"><strong><span style="font-size: 12pt\;">OCEANS 8:</span></strong></span>&nbsp\;&nbsp\;&nbsp\;&nbsp\;&nbsp\;&nbsp\; 12:00&nbsp\;&nbsp\;&nbsp\;&nbsp\; 4:30&nbsp\;&nbsp\;&nbsp\;&nbsp\;&nbsp\;&nbsp\;&nbsp\; 7:10&nbsp\;&nbsp\;&nbsp\;&nbsp\;&nbsp\;&nbsp\;&nbsp\; 9:25<br />\n<span style="font-family: calibri\;"><strong><span style="font-size: 12pt\;">ADRIFT:</span></strong></span>&nbsp\;&nbsp\;&nbsp\;&nbsp\;&nbsp\;&nbsp\;&nbsp\;&nbsp\; 12:25&nbsp\;&nbsp\;&nbsp\;&nbsp\; 4:45&nbsp\;&nbsp\;&nbsp\;&nbsp\;&nbsp\;&nbsp\;&nbsp\; 7:15&nbsp\;&nbsp\;&nbsp\;&nbsp\;&nbsp\;&nbsp\;&nbsp\; 9:20<br />\n<br />\n&nbsp\;
LOCATION:Fergus Falls - Westridge Theatre
UID:e.314.49930
SEQUENCE:3
DTSTAMP:20260423T213513Z
URL:https://business.fergusfalls.com/events/details/movies-in-theatre-49930
END:VEVENT

END:VCALENDAR
