BEGIN:VCALENDAR
VERSION:2.0
PRODID:-//ChamberMaster//Event Calendar 2.0//EN
METHOD:PUBLISH
X-PUBLISHED-TTL:P3D
REFRESH-INTERVAL:P3D
CALSCALE:GREGORIAN
BEGIN:VEVENT
DTSTART;VALUE=DATE:20190301
DTEND;VALUE=DATE:20190307
TRANSP:TRANSPARENT
X-MICROSOFT-CDO-ALLDAYEVENT:TRUE
SUMMARY:Movies Now Playing at Westridge Theatre
DESCRIPTION:Westridge Theatre \n			 \n		\n		\n			 \n		\n		\n			 \n			 \n			 \n			 \n			 \n			 \n			 \n			 \n			 \n			 \n		\n		\n			218-736-1206
X-ALT-DESC;FMTTYPE=text/html:<table border="0" cellpadding="0" cellspacing="0" style="width: 791px\; border-collapse: collapse\;" width="787">\n	<tbody>\n		<tr height="66" style="height: 66px\;">\n			<td height="66" style="border: 0px windowtext\; border-image: none\; width: 31px\; height: 66px\;">&nbsp\;</td>\n			<td style="border: 0px black\; border-image: none\; width: 31px\;">&nbsp\;</td>\n			<td style="border: 0px black\; border-image: none\; width: 13px\;">&nbsp\;</td>\n			<td style="border: 0px black\; border-image: none\; width: 55px\;">&nbsp\;</td>\n			<td colspan="5" style="border: 0px black\; border-image: none\; width: 593px\;"><strong><span style="font-size: large\;"><span style="font-family: times new roman\;">Westridge Theatre&nbsp\;</span></span></strong></td>\n			<td style="border: 0px black\; border-image: none\; width: 68px\;">&nbsp\;</td>\n		</tr>\n		<tr height="29" style="height: 29px\;">\n			<td colspan="10" height="29" style="border: 0px black\; border-image: none\; height: 29px\;">&nbsp\;</td>\n		</tr>\n		<tr height="21" style="height: 21px\;">\n			<td height="21" style="border: 0px windowtext\; border-image: none\; height: 21px\;">&nbsp\;</td>\n			<td style="border: 0px windowtext\; border-image: none\;">&nbsp\;</td>\n			<td style="border: 0px windowtext\; border-image: none\;">&nbsp\;</td>\n			<td style="border: 0px windowtext\; border-image: none\;">&nbsp\;</td>\n			<td style="border: 0px black\; border-image: none\;">&nbsp\;</td>\n			<td style="border: 0px black\; border-image: none\;">&nbsp\;</td>\n			<td style="border: 0px black\; border-image: none\;">&nbsp\;</td>\n			<td style="border: 0px black\; border-image: none\;">&nbsp\;</td>\n			<td style="border: 0px black\; border-image: none\;">&nbsp\;</td>\n			<td style="border: 0px black\; border-image: none\;">&nbsp\;</td>\n		</tr>\n		<tr height="26" style="height: 26px\;">\n			<td colspan="10" height="26" style="border: 0px black\; border-image: none\; height: 26px\;"><strong><span style="font-size: large\;">218-736-1206</span></strong></td>\n		</tr>\n	</tbody>\n	<colgroup>\n		<col style="width: 31px\;" />\n		<col style="width: 31px\;" />\n		<col style="width: 13px\;" />\n		<col style="width: 55px\;" />\n		<col style="width: 289px\;" />\n		<col style="width: 73px\;" />\n		<col style="width: 68px\;" />\n		<col style="width: 95px\;" />\n		<col span="2" style="width: 68px\;" />\n	</colgroup>\n</table>\n
LOCATION:Fergus Falls\, MN 56537
UID:e.314.52584
SEQUENCE:3
DTSTAMP:20260423T094140Z
URL:https://business.fergusfalls.com/events/details/movies-now-playing-at-westridge-theatre-52584
END:VEVENT

END:VCALENDAR
