BEGIN:VCALENDAR
VERSION:2.0
PRODID:-//ChamberMaster//Event Calendar 2.0//EN
METHOD:PUBLISH
X-PUBLISHED-TTL:P3D
REFRESH-INTERVAL:P3D
CALSCALE:GREGORIAN
BEGIN:VEVENT
DTSTART;VALUE=DATE:20161216
DTEND;VALUE=DATE:20161223
TRANSP:TRANSPARENT
X-MICROSOFT-CDO-ALLDAYEVENT:TRUE
SUMMARY:Movies Playing in Theater
DESCRIPTION:MOVIE TIME SCHEDULE                        \n\n                        \n\n    Play Week December 16th - Tuesday December 20th                    \n\n    MOVIE TITLE  \n\n    Rogue One: A Star Wars Story     PG-13    410 700 945    1250 410 700                         945    410 700    410 700\n\n    3D Rogue One: A Star Wars Story    PG-13    350 930    120 350 640                         930    350 640    350 640\n\n    Moana    PG    425 700 920    1240 425 700 920    425 700    4:25\n\n    Collateral Beauty    PG13    430 650 910    1210 220 430 650 910    430                         650    430 650\n\n    Office Christmas Party     R    445 715 930    1215 230 445 715 930                             445 715    445\n\n    Sing     PG    710\n\n    Passengers     PG-13    7:20
X-ALT-DESC;FMTTYPE=text/html:<strong>MOVIE TIME SCHEDULE&nbsp\;&nbsp\; &nbsp\;&nbsp\;&nbsp\; &nbsp\;&nbsp\;&nbsp\; &nbsp\;&nbsp\;&nbsp\; &nbsp\;&nbsp\;&nbsp\; &nbsp\;&nbsp\;&nbsp\; &nbsp\;<br />\n&nbsp\;&nbsp\; &nbsp\;&nbsp\;&nbsp\; &nbsp\;&nbsp\;&nbsp\; &nbsp\;&nbsp\;&nbsp\; &nbsp\;&nbsp\;&nbsp\; &nbsp\;&nbsp\;&nbsp\; &nbsp\;<br />\n&nbsp\;&nbsp\; &nbsp\;Play Week December 16th - Tuesday December 20th&nbsp\;</strong>&nbsp\; &nbsp\;&nbsp\;&nbsp\; &nbsp\;&nbsp\;&nbsp\; &nbsp\;&nbsp\;&nbsp\; &nbsp\;&nbsp\;&nbsp\; &nbsp\;<br />\n&nbsp\;&nbsp\;<strong> &nbsp\;MOVIE TITLE</strong>&nbsp\;&nbsp\;<br />\n&nbsp\;&nbsp\; <strong>&nbsp\;Rogue One: A Star Wars Story &nbsp\;&nbsp\;</strong> <strong>&nbsp\;PG-13</strong>&nbsp\;&nbsp\; &nbsp\;410 700 945&nbsp\;&nbsp\; &nbsp\;1250 410 700 &nbsp\;&nbsp\;&nbsp\;&nbsp\;&nbsp\;&nbsp\;&nbsp\;&nbsp\;&nbsp\;&nbsp\;&nbsp\;&nbsp\;&nbsp\;&nbsp\;&nbsp\;&nbsp\;&nbsp\;&nbsp\;&nbsp\;&nbsp\;&nbsp\;&nbsp\;&nbsp\;&nbsp\;945&nbsp\;&nbsp\; &nbsp\;410 700&nbsp\;&nbsp\; &nbsp\;410 700<br />\n&nbsp\;&nbsp\;<strong> &nbsp\;3D Rogue One: A Star Wars Story</strong>&nbsp\;&nbsp\; &nbsp\;<strong>PG-13</strong>&nbsp\;&nbsp\; &nbsp\;350 930&nbsp\;&nbsp\; &nbsp\;120 350 640 &nbsp\;&nbsp\;&nbsp\;&nbsp\;&nbsp\;&nbsp\;&nbsp\;&nbsp\;&nbsp\;&nbsp\;&nbsp\;&nbsp\;&nbsp\;&nbsp\;&nbsp\;&nbsp\;&nbsp\;&nbsp\;&nbsp\;&nbsp\;&nbsp\;&nbsp\;&nbsp\;&nbsp\;930&nbsp\;&nbsp\; &nbsp\;350 640&nbsp\;&nbsp\; &nbsp\;350 640<br />\n&nbsp\;&nbsp\; <strong>&nbsp\;Moana&nbsp\;</strong>&nbsp\;<strong> &nbsp\;PG</strong>&nbsp\;&nbsp\; &nbsp\;425 700 920&nbsp\;&nbsp\; &nbsp\;1240 425 700 920&nbsp\;&nbsp\; &nbsp\;425 700&nbsp\;&nbsp\; &nbsp\;4:25<br />\n<strong>&nbsp\;&nbsp\; &nbsp\;Collateral Beauty&nbsp\;&nbsp\; </strong>&nbsp\;<strong>PG13&nbsp\;</strong>&nbsp\; &nbsp\;430 650 910&nbsp\;&nbsp\; &nbsp\;1210 220 430 650 910&nbsp\;&nbsp\; &nbsp\;430 &nbsp\;&nbsp\;&nbsp\;&nbsp\;&nbsp\;&nbsp\;&nbsp\;&nbsp\;&nbsp\;&nbsp\;&nbsp\;&nbsp\;&nbsp\;&nbsp\;&nbsp\;&nbsp\;&nbsp\;&nbsp\;&nbsp\;&nbsp\;&nbsp\;&nbsp\;&nbsp\;&nbsp\;650&nbsp\;&nbsp\; &nbsp\;430 650<br />\n<strong>&nbsp\;&nbsp\; &nbsp\;Office Christmas Party</strong> &nbsp\;&nbsp\; &nbsp\;<strong>R&nbsp\;&nbsp\; </strong>&nbsp\;445 715 930&nbsp\;&nbsp\; &nbsp\;1215 230 445 715 930&nbsp\;&nbsp\; &nbsp\;&nbsp\;&nbsp\;&nbsp\;&nbsp\;&nbsp\;&nbsp\;&nbsp\;&nbsp\;&nbsp\;&nbsp\;&nbsp\;&nbsp\;&nbsp\;&nbsp\;&nbsp\; &nbsp\; &nbsp\;&nbsp\;&nbsp\;&nbsp\;&nbsp\; &nbsp\;445 715&nbsp\;&nbsp\; &nbsp\;445<br />\n<strong>&nbsp\;&nbsp\; &nbsp\;Sing </strong>&nbsp\;&nbsp\; &nbsp\;<strong>PG &nbsp\;</strong>&nbsp\;&nbsp\;710<br />\n<strong>&nbsp\;&nbsp\; &nbsp\;Passengers &nbsp\;&nbsp\;</strong> &nbsp\;<strong>PG-13&nbsp\;&nbsp\;</strong>&nbsp\;&nbsp\;7:20
LOCATION:Westridge Theatre 2001 Lincoln Ave West Fergus Falls\, MN 56537
UID:e.314.37222
SEQUENCE:3
DTSTAMP:20260425T040346Z
URL:https://business.fergusfalls.com/events/details/movies-playing-in-theater-37222
END:VEVENT

END:VCALENDAR
