BEGIN:VCALENDAR
VERSION:2.0
PRODID:-//ChamberMaster//Event Calendar 2.0//EN
METHOD:PUBLISH
X-PUBLISHED-TTL:P3D
REFRESH-INTERVAL:P3D
CALSCALE:GREGORIAN
BEGIN:VEVENT
DTSTART;VALUE=DATE:20181005
DTEND;VALUE=DATE:20181011
TRANSP:TRANSPARENT
X-MICROSOFT-CDO-ALLDAYEVENT:TRUE
SUMMARY:Movies Showing in Theatre
DESCRIPTION:Showtime's Valid From: OCT 5-10 \n\n \n\n \n\n \n\n\n	1 (PG13) VENOM \n\n	\n		12:30  4:15 6:55 9:15\n		2:22   6:07 8:47 11:07\n	\n	\n	2  (R) A STAR IS BORN \n	\n		 12:45  3:45 6:45 9:30\n		  3:00   6:00 9:00 11:45                    \n	\n	\n	3 (PG) A HOUSE WITH A CLOCK IN THE WALLS \n	\n		12:30 2:45 5:00 7:15 9:25\n		2:15 4:30 6:45 9:00 11:10\n	\n	\n\n\n\n	4 PG SMALL FOOT\n\n	\n		12:20 2:30 4:40 7:05 9:10\n		1:56 4:06 6:16 8:41 10:46\n	\n	\n\n\n\n	5 (R)  A STAR IS BORN\n\n	\n		 1:30  4:30    3:45  6:45    \n	\n	\n	5b  (PG13) VENOM \n	\n		 7:15 9:35      \n		9:07 11:27
X-ALT-DESC;FMTTYPE=text/html:<div><span style="font-size:26px\;">&nbsp\; Showtime&#39\;s Valid From: OCT 5-10<span style="white-space:pre"> </span></span></div>\n\n<div>&nbsp\;</div>\n\n<div>&nbsp\;</div>\n\n<div>&nbsp\;</div>\n\n<ul>\n	<li><strong>1<span style="white-space:pre"> (</span>PG13)<span style="white-space:pre"> </span>VENOM<span style="white-space:pre"> </span></strong>\n\n	<ul>\n		<li>12:30<span style="white-space:pre"> </span> 4:15<span style="white-space:pre"> </span>6:55<span style="white-space:pre"> </span>9:15</li>\n		<li>2:22<span style="white-space:pre"> </span> <span style="white-space:pre"> </span>6:07<span style="white-space:pre"> </span>8:47<span style="white-space:pre"> </span>11:07</li>\n	</ul>\n	</li>\n	<li><strong>2<span style="white-space:pre"> </span>&nbsp\;(R)<span style="white-space:pre"> </span>A STAR IS BORN<span style="white-space:pre"> </span></strong>\n	<ul>\n		<li><span style="white-space:pre">&#8203\;</span>12:45<span style="white-space:pre"> </span> 3:45<span style="white-space:pre"> </span>6:45<span style="white-space:pre"> </span>9:30</li>\n		<li>&#8203\;<span style="white-space:pre"> </span>3:00<span style="white-space:pre"> </span> <span style="white-space:pre"> </span>6:00<span style="white-space:pre"> </span>9:00<span style="white-space:pre"> </span>11:45 <span style="white-space:pre"> </span> <span style="white-space:pre"> </span> <span style="white-space:pre"> </span> <span style="white-space:pre"> </span>&nbsp\; <span style="white-space:pre"> </span> <span style="white-space:pre"> </span> <span style="white-space:pre"> </span> <span style="white-space:pre"> </span> <span style="white-space:pre"> </span>&nbsp\;</li>\n	</ul>\n	</li>\n	<li><strong>3<span style="white-space:pre"> (</span>PG)<span style="white-space:pre"> </span>A HOUSE WITH A CLOCK IN THE WALLS<span style="white-space:pre"> </span></strong>\n	<ul>\n		<li>12:30<span style="white-space:pre"> </span>2:45<span style="white-space:pre"> </span>5:00<span style="white-space:pre"> </span>7:15<span style="white-space:pre"> </span>9:25</li>\n		<li>2:15<span style="white-space:pre"> </span>4:30<span style="white-space:pre"> </span>6:45<span style="white-space:pre"> </span>9:00<span style="white-space:pre"> </span>11:10</li>\n	</ul>\n	</li>\n</ul>\n\n<ul>\n	<li><strong>4<span style="white-space:pre"> </span>PG<span style="white-space:pre"> </span>SMALL FOOT</strong>\n\n	<ul>\n		<li>12:20<span style="white-space:pre"> </span>2:30<span style="white-space:pre"> </span>4:40<span style="white-space:pre"> </span>7:05<span style="white-space:pre"> </span>9:10</li>\n		<li>1:56<span style="white-space:pre"> </span>4:06<span style="white-space:pre"> </span>6:16<span style="white-space:pre"> </span>8:41<span style="white-space:pre"> </span>10:46</li>\n	</ul>\n	</li>\n</ul>\n\n<ul>\n	<li><strong>5<span style="white-space:pre"> (</span>R)&nbsp\;<span style="white-space:pre"> </span>A STAR IS BORN</strong>\n\n	<ul>\n		<li><span style="white-space:pre">&#8203\;1</span>:30<span style="white-space:pre"> </span> 4:30<span style="white-space:pre"> </span> <span style="white-space:pre"> </span>&nbsp\;3:45<span style="white-space:pre"> </span> 6:45<span style="white-space:pre"> </span> <span style="white-space:pre"> </span>&nbsp\;</li>\n	</ul>\n	</li>\n	<li><strong>5b<span style="white-space:pre"> </span>&nbsp\;(PG13)<span style="white-space:pre"> </span>VENOM</strong><span style="white-space:pre"> </span>\n	<ul>\n		<li><span style="white-space:pre">&#8203\;</span>7:15<span style="white-space:pre"> </span>9:35&nbsp\;&nbsp\;&nbsp\;&nbsp\;&nbsp\;&nbsp\;</li>\n		<li>9:07<span style="white-space:pre"> </span>11:27</li>\n	</ul>\n	</li>\n</ul>\n
LOCATION:Located in: Westridge Mall Address: 2001 W Lincoln Ave\, Fergus Falls\, MN 56537 Phone: (218) 736-7240
UID:e.314.50406
SEQUENCE:3
DTSTAMP:20260423T164943Z
URL:https://business.fergusfalls.com/events/details/movies-showing-in-theatre-50406
END:VEVENT

END:VCALENDAR
