BEGIN:VCALENDAR
VERSION:2.0
PRODID:-//ChamberMaster//Event Calendar 2.0//EN
METHOD:PUBLISH
X-PUBLISHED-TTL:P3D
REFRESH-INTERVAL:P3D
CALSCALE:GREGORIAN
BEGIN:VEVENT
DTSTART:20180302T150000Z
DTEND:20180303T053000Z
X-MICROSOFT-CDO-ALLDAYEVENT:FALSE
SUMMARY:Moving the Needle
DESCRIPTION:Moving the Needle Broadband Discussion\n\n\n\nFriday\, March 2\, 2018\n\n9:00 am11:30 am\n\n\n\nWest Central Initiative\, 1000 Western Ave. Fergus Falls\n\n\n\n\nRegister Today.\n\nAdd To My Calendar\n\n\n\n\nWest Central Initiative seeks input on broadband needs and opportunities in the nine-county region. The morning will include an overview of the state of broadband in Greater Minnesota and a presentation about Otter Tail County's work in mapping broadband needs and developing a county-wide plan.
X-ALT-DESC;FMTTYPE=text/html:<h2 class="event-title" itemprop="name">Moving the Needle Broadband Discussion</h2>\n\n<div class="event-meta">\n<div class="event-meta__date-time info-meta">\n<div class="event-date info-meta__date" content="2018-03-02T09:00:00-06:00" itemprop="startDate">Friday\, March 2\, 2018</div>\n\n<div class="event-time info-meta__time"><span class="event-time__start">9:00 am</span><span class="event-time__end">11:30 am</span></div>\n</div>\n\n<div class="event-meta__location info-meta" itemprop="location" itemscope="" itemtype="https://schema.org/Place">\n<div itemprop="address" itemscope="" itemtype="https://schema.org/PostalAddress">West Central Initiative\, 1000 Western Ave. Fergus Falls</div>\n</div>\n</div>\n\n<div class="event-header-actions">\n<div class="event-register" itemprop="offers" itemscope="" itemtype="https://schema.org/Offer"><a class="button" href="https://wciforg.presencehost.net/news_resources/event_calendar.html/event-form/registration-form/27473/tickets" itemprop="url"><font color="#0066cc">Register Today.</font></a></div>\n\n<div class="event-add-calendar"><a href="https://wciforg.presencehost.net/news_resources/event_calendar.html/ical/2018/03/02/moving-the-needle-broadband-discussion/189509" itemprop="url" rel="nofollow"><font color="#0066cc">Add To My Calendar</font></a></div>\n</div>\n\n<div class="event__content">\n<div class="event-details__description" itemprop="description">\n<p>West Central Initiative seeks input on broadband needs and opportunities in the nine-county region. The morning will include an overview of the state of broadband in Greater Minnesota and a presentation about Otter Tail County&#39\;s work in mapping broadband needs and developing a county-wide plan.</p>\n</div>\n</div>\n
LOCATION:
UID:e.314.43888
SEQUENCE:3
DTSTAMP:20260424T012051Z
URL:https://business.fergusfalls.com/events/details/moving-the-needle-43888
END:VEVENT

END:VCALENDAR
