BEGIN:VCALENDAR
VERSION:2.0
PRODID:-//ChamberMaster//Event Calendar 2.0//EN
METHOD:PUBLISH
X-PUBLISHED-TTL:P3D
REFRESH-INTERVAL:P3D
CALSCALE:GREGORIAN
BEGIN:VEVENT
DTSTART:20170320T220000Z
DTEND:20170321T010000Z
X-MICROSOFT-CDO-ALLDAYEVENT:FALSE
SUMMARY:MS Awareness Tip Night
DESCRIPTION:Join Walk MS Volunteers at Pizza Ranch in Fergus Falls to raise awareness and money for Walk MS and the MS Society.\n\nDuring MS Awareness month\, people from all over the country will come together to make connections and spread the word about Multiple Sclerosis\, and the need to find a cure!\n\nFor more information\, or to register for Walk MS - visit www.walkms.org
X-ALT-DESC;FMTTYPE=text/html:<span class="fsl" data-testid="event-permalink-details">Join Walk MS Volunteers at Pizza Ranch in Fergus Falls to raise awareness and money for Walk MS and the MS Society.<br />\nDuring MS Awareness month\, people from all over the country will come together to make connections and spread the word about Multiple Sclerosis\, and the need to find a cure!<br />\nFor more information\, or to register for Walk MS - visit <a href="http://www.walkms.org/" rel="nofollow nofollow" target="_blank"><font color="#0066cc">www.walkms.org</font></a></span>
LOCATION:Pizza Ranch Fergus Falls 604 Frontier Dr\, Fergus Falls
UID:e.314.38896
SEQUENCE:3
DTSTAMP:20260424T205701Z
URL:https://business.fergusfalls.com/events/details/ms-awareness-tip-night-38896
END:VEVENT

END:VCALENDAR
