BEGIN:VCALENDAR
VERSION:2.0
PRODID:-//ChamberMaster//Event Calendar 2.0//EN
METHOD:PUBLISH
X-PUBLISHED-TTL:P3D
REFRESH-INTERVAL:P3D
CALSCALE:GREGORIAN
BEGIN:VEVENT
DTSTART:20180416T220000Z
DTEND:20180417T010000Z
X-MICROSOFT-CDO-ALLDAYEVENT:FALSE
SUMMARY:MS Awareness Tip Night at Pizza Ranch
DESCRIPTION:MS Awareness Tip Night \n\n\n\nJoin Walk MS Volunteers at Pizza Ranch in Fergus Falls to raise awareness and money for Walk MS and the MS Society.\n\nPeople from all over the country will come together to make connections and spread the word about Multiple Sclerosis\, and the need to find a cure during Walk MS\, Sunday May 6th.\n\nFor more information\, or to register for Walk MS - visit www.walkms.org
X-ALT-DESC;FMTTYPE=text/html:<div class="_5xhp fsm fwn fcg"><strong>MS Awareness Tip Night </strong><br />\n<br />\n<span class="fsl" data-testid="event-permalink-details">Join Walk MS Volunteers at Pizza Ranch in Fergus Falls to raise awareness and money for Walk MS and the MS Society.<br />\nPeople from all over the country will come together to make connections and spread the word about Multiple Sclerosis\, and the need to find a cure during Walk MS\, Sunday May 6th.<br />\nFor more information\, or to register for Walk MS - visit <a data-lynx-mode="hover" href="http://l.facebook.com/l.php?u=http%3A%2F%2Fwww.walkms.org%2F&amp\;h=ATPtGt6GWP2bQ2S9tPL8WBAEAk5kYR58OMTU8Hoc2ceDVjzPfa22zrJHTY73f4eKxIERqlrCuqC9m-WS5T3mhz7_0OHNIXb6cmsV5XSLrsGWBm43qw" rel="nofollow" target="_blank"><font color="#0066cc">www.walkms.org</font></a></span></div>\n
LOCATION:Pizza Ranch (Fergus Falls\, MN) 604 Frontier Dr\, Fergus Falls
UID:e.314.44977
SEQUENCE:3
DTSTAMP:20260423T235212Z
URL:https://business.fergusfalls.com/events/details/ms-awareness-tip-night-at-pizza-ranch-44977
END:VEVENT

END:VCALENDAR
