BEGIN:VCALENDAR
VERSION:2.0
PRODID:-//ChamberMaster//Event Calendar 2.0//EN
METHOD:PUBLISH
X-PUBLISHED-TTL:P3D
REFRESH-INTERVAL:P3D
CALSCALE:GREGORIAN
BEGIN:VEVENT
DTSTART:20190309T233000Z
DTEND:20190310T020000Z
X-MICROSOFT-CDO-ALLDAYEVENT:FALSE
SUMMARY:MSCS Celebration Gala
DESCRIPTION:You are invited to come and celebrate Morning Son Christian School\, and hear about the future partnership between MSCS and Hillcrest Academy!\n\n\n\nThe cost is $10 per attendee and includes a 3 course dinner!
X-ALT-DESC;FMTTYPE=text/html:<span>You are invited to come and celebrate Morning Son Christian School\, and hear about the future partnership between MSCS and Hillcrest Academy!<br />\n<br />\nThe cost is $10 per attendee and includes a 3 course dinner!</span>
LOCATION:Hillcrest Academy (new gym)
UID:e.314.52643
SEQUENCE:3
DTSTAMP:20260423T075317Z
URL:https://business.fergusfalls.com/events/details/mscs-celebration-gala-52643
END:VEVENT

END:VCALENDAR
