BEGIN:VCALENDAR
VERSION:2.0
PRODID:-//ChamberMaster//Event Calendar 2.0//EN
METHOD:PUBLISH
X-PUBLISHED-TTL:P3D
REFRESH-INTERVAL:P3D
CALSCALE:GREGORIAN
BEGIN:VEVENT
DTSTART:20160430T230000Z
DTEND:20160501T000000Z
X-MICROSOFT-CDO-ALLDAYEVENT:FALSE
SUMMARY:MSCS Dessert Gala *Journey With Us
DESCRIPTION:Journey With Us\n\n2016 Fundraising Dessert Gala \n\n\n\nSaturday\, April 30th 7pm\n\nSocial hour- 6pm \n\n\n\nFREE ADMISSION\n\nRSVP Only 736-2477 or office@morningson.org\n\n\n	Decadent Desserts\n	Silent Auction\n	Raffle- Weslake Resort (vacation on West Lost Lake)
X-ALT-DESC;FMTTYPE=text/html:<p><span style="font-size: 22px\;"><strong>Journey With Us</strong></span></p>\n\n<p><span style="font-size: 20px\;"><strong>2016 Fundraising Dessert Gala </strong></span><br />\n<br />\n<span style="color: rgb(0\, 0\, 255)\;"><strong>Saturday\, April 30th 7pm</strong></span><br />\n<strong>Social hour- 6pm </strong><br />\n<br />\n<span style="font-size: 18px\;"><span style="color: rgb(0\, 0\, 255)\;"><strong>FREE ADMISSION</strong></span></span><br />\n<strong><span style="font-size: 18px\;"><span style="color: rgb(0\, 128\, 0)\;">RSVP Only</span></span> 736-2477 or office@morningson.org</strong></p>\n\n<ul>\n	<li><strong>Decadent Desserts</strong></li>\n	<li><strong>Silent Auction</strong></li>\n	<li><strong>Raffle- Weslake Resort</strong> (vacation on West Lost Lake)</li>\n</ul>\n
LOCATION:Nazarene Church - Morning Son Christian School 1319 North Cleveland Avenue Fergus Falls
UID:e.314.32385
SEQUENCE:3
DTSTAMP:20260425T163023Z
URL:https://business.fergusfalls.com/events/details/mscs-dessert-gala-journey-with-us-04-30-2016-32385
END:VEVENT

END:VCALENDAR
