BEGIN:VCALENDAR
VERSION:2.0
PRODID:-//ChamberMaster//Event Calendar 2.0//EN
METHOD:PUBLISH
X-PUBLISHED-TTL:P3D
REFRESH-INTERVAL:P3D
CALSCALE:GREGORIAN
BEGIN:VEVENT
DTSTART:20180528T130000Z
DTEND:20180528T160000Z
X-MICROSOFT-CDO-ALLDAYEVENT:FALSE
SUMMARY:Murph
DESCRIPTION:CrossFit 1919 and CrossFit Fergus Falls are partnering in a community wide event to honor all men and women who have served and who are currently serving our country by completing the hero workout "Murph" This event is free and open to public. Please call or stop by if you have questions & to reserve your spot.
X-ALT-DESC;FMTTYPE=text/html:<div class="_63ew"><span>CrossFit 1919 and CrossFit Fergus Falls are partnering in a community wide event to honor all men and women who have served and who are currently serving our country by completing the hero workout &quot\;Murph&quot\; This event is free and open to public. Please call or stop by if you have questions &amp\; to reserve your spot.</span></div>\n
LOCATION:New Beginnings Family Fitness - CrossFit 1919 216 W Cavour Ave
UID:e.314.48843
SEQUENCE:3
DTSTAMP:20260423T223004Z
URL:https://business.fergusfalls.com/events/details/murph-48843
END:VEVENT

END:VCALENDAR
