BEGIN:VCALENDAR
VERSION:2.0
PRODID:-//ChamberMaster//Event Calendar 2.0//EN
METHOD:PUBLISH
X-PUBLISHED-TTL:P3D
REFRESH-INTERVAL:P3D
CALSCALE:GREGORIAN
BEGIN:VEVENT
DTSTART:20210826T150000Z
DTEND:20210826T210000Z
X-MICROSOFT-CDO-ALLDAYEVENT:FALSE
SUMMARY:Museum Celebrates Women's Equality Day
DESCRIPTION:The Otter Tail County Museum is celebrating the anniversary of women getting the vote! The 19th Amendment was certified on Aug. 26\, 1920. Women's History tours at 10am\, 1pm and 3pm. Make and take crafts.
X-ALT-DESC;FMTTYPE=text/html:The Otter Tail County Museum is celebrating the anniversary of women getting the vote! The 19th Amendment was certified on Aug. 26\, 1920. Women&#39\;s History tours at 10am\, 1pm and 3pm. Make and take crafts.
LOCATION:Otter Tail County Museum 1110 W. Lincoln Ave. Fergus Falls\, MN 56537
UID:e.314.63349
SEQUENCE:3
DTSTAMP:20260421T110936Z
URL:https://business.fergusfalls.com/events/details/museum-celebrates-women-s-equality-day-63349
END:VEVENT

END:VCALENDAR
