BEGIN:VCALENDAR
VERSION:2.0
PRODID:-//ChamberMaster//Event Calendar 2.0//EN
METHOD:PUBLISH
X-PUBLISHED-TTL:P3D
REFRESH-INTERVAL:P3D
CALSCALE:GREGORIAN
BEGIN:VEVENT
DTSTART:20171028T150000Z
DTEND:20171028T190000Z
X-MICROSOFT-CDO-ALLDAYEVENT:FALSE
SUMMARY:Museum Trick or Treat
DESCRIPTION:Halloween fun at the Otter Tail County Museum! Wear your costume\, visit the museum galleries\, search for clues in the Harry Potter Scavenger Hunt\, get treats.
X-ALT-DESC;FMTTYPE=text/html:Halloween fun at the Otter Tail County Museum! Wear your costume\, visit the museum galleries\, search for clues in the Harry Potter Scavenger Hunt\, get treats.
LOCATION:Otter Tail County Museum
UID:e.314.41043
SEQUENCE:3
DTSTAMP:20260424T105308Z
URL:https://business.fergusfalls.com/events/details/museum-trick-or-treat-41043
END:VEVENT

END:VCALENDAR
