BEGIN:VCALENDAR
VERSION:2.0
PRODID:-//ChamberMaster//Event Calendar 2.0//EN
METHOD:PUBLISH
X-PUBLISHED-TTL:P3D
REFRESH-INTERVAL:P3D
CALSCALE:GREGORIAN
BEGIN:VEVENT
DTSTART:20191026T150000Z
DTEND:20191026T190000Z
X-MICROSOFT-CDO-ALLDAYEVENT:FALSE
SUMMARY:Museum Trick or Treat
DESCRIPTION:Follow the Yellow Brick Road to the Otter Tail County Historical Museum on October 26th\n\n\n\nIt's time for MUSEUM TRICK OR TREAT! This year the "Cyclone 1919" exhibit conjures up images of a little girl and her dog swept away by a twister. Join us on Saturday\, October 26\, the Otter Tail County Historical Museum will be open from 10am - 2pm. Visitors can try the new Wizard of Oz-themed scavenger hunt\, tour the "Cyclone" exhibit and make and take an Oz Art collage.\n\n\n\nAdmission is $5 for adults and $2 for kids\, Otter Tail County Historical Society members get in free. There will be candy and costumes are welcome.
X-ALT-DESC;FMTTYPE=text/html:<span>Follow the Yellow Brick Road to the Otter Tail County Historical Museum on October 26th<br />\n<br />\nIt&rsquo\;s time for MUSEUM TRICK OR TREAT! This year the &quot\;Cyclone 1919&quot\; exhibit conjures up images of a little girl and her dog swept away by a twister. Join us on Saturday\, October 26\, the Otter Tail County Historical Museum will be open from 10am - 2pm. Visitors can try the new Wizard of Oz-themed scavenger hunt\, tour the &quot\;Cyclone&quot\; exhibit and make and take an Oz Art collage.<br />\n<br />\nAdmission is $5 for adults and $2 for kids\, Otter Tail County Historical Society members get in free. There will be candy and costumes are welcome.</span>
LOCATION:Otter Tail County Historical Society 1110 W Lincoln Ave\, Fergus Falls\, Minnesota 56537
UID:e.314.54578
SEQUENCE:3
DTSTAMP:20260422T203811Z
URL:https://business.fergusfalls.com/events/details/museum-trick-or-treat-54578
END:VEVENT

END:VCALENDAR
