BEGIN:VCALENDAR
VERSION:2.0
PRODID:-//ChamberMaster//Event Calendar 2.0//EN
METHOD:PUBLISH
X-PUBLISHED-TTL:P3D
REFRESH-INTERVAL:P3D
CALSCALE:GREGORIAN
BEGIN:VEVENT
DTSTART:20191026T150000Z
DTEND:20191026T190000Z
X-MICROSOFT-CDO-ALLDAYEVENT:FALSE
SUMMARY:Museum Trick or Treat- wizard of Oz Scavenger Hunt
DESCRIPTION:The Cyclone exhibit at the museum conjures up thoughts of a little girl named Dorothy and her dog Toto. Visit the OtterTail County Museum and discover there's no place like home to find Wizard of Oz history in our own town. arts and crafts project\, candy\, costumes welcome- follow the yellow brick road to the museum!
X-ALT-DESC;FMTTYPE=text/html:The Cyclone exhibit at the museum conjures up thoughts of a little girl named Dorothy and her dog Toto. Visit the OtterTail County Museum and discover there&#39\;s no place like home to find Wizard of Oz history in our own town. arts and crafts project\, candy\, costumes welcome- follow the yellow brick road to the museum!
LOCATION:Otter Tail County Museum 1110 W. Lincoln Ave.
UID:e.314.54688
SEQUENCE:3
DTSTAMP:20260422T223130Z
URL:https://business.fergusfalls.com/events/details/museum-trick-or-treat-wizard-of-oz-scavenger-hunt-54688
END:VEVENT

END:VCALENDAR
