BEGIN:VCALENDAR
VERSION:2.0
PRODID:-//ChamberMaster//Event Calendar 2.0//EN
METHOD:PUBLISH
X-PUBLISHED-TTL:P3D
REFRESH-INTERVAL:P3D
CALSCALE:GREGORIAN
BEGIN:VEVENT
DTSTART:20151114T004500Z
DTEND:20151114T023000Z
X-MICROSOFT-CDO-ALLDAYEVENT:FALSE
SUMMARY:Music & Madness
DESCRIPTION:Come join us for a special recital event this November! Music and Madness is a recital/conversation that aims to open hearts and minds to the prevalence of mental illness in our midst\, thereby destigmatizing it's existence. There will be a pre-concert discussion (6:45) with local mental health professionals followed by a recital (7:30) that is comprised of music/text that has been composed/written by artists that have suffered some sort of mental illness. Come\, be inspired\, and join the conversation!\n\n\n\nFeaturing:\n\nAna Miller\, soprano\n\nClara Osowski\, mezzo-soprano\n\nSteve Swanson\, piano\n\n\n\nMusic by:\n\nClaude Debussy\n\nDominick Argento (text of Virginia Woolf)\n\nJared Hedges (text of Nellie Bly)\n\nRobert Schumann...\n\nJocelyn Hagen (text of Emily DIckinson)\n\nGabriel Faure\n\nJake Heggie (text of Emily Dickinson)\n\n\n\n"This is a Hinge Arts project supported by Springboard for the Arts. Hinge Arts is a residency program that was launched in 2015 to engage artists in the redevelopment of the Kirkbride Building\, a former mental health hospital in Fergus Falls\, MN."
X-ALT-DESC;FMTTYPE=text/html:<div class="text_exposed_root text_exposed" id="id_563376edb563c6d52131844"><span class="fsl">Come join us for a special recital event this November! Music and Madness is a recital/conversation that aims to open hearts and minds to the prevalence of mental illness in our midst\, thereby destigmatizing it&#39\;s existence. There will be a pre-concert discussion (6:45) with local mental health professionals followed by a recital (7:30) that is comprised of music/text that has been composed/written by artists that have suffered some sort of mental illness. Come\, be inspired\, and join the conversation!<br />\n<br />\nFeaturing:<br />\nAna Miller\, soprano<br />\nClara Osowski\, mezzo-soprano<br />\nSteve Swanson\, piano<br />\n<br />\nMusic by:<br />\nClaude Debussy<br />\nDominick Argento (text of Virginia Woolf)<br />\nJared Hedges (text of Nellie Bly)<br />\nRobert Schumann<span class="text_exposed_hide">...</span><br />\n<span class="text_exposed_show">Jocelyn Hagen (text of Emily DIckinson)<br />\nGabriel Faure<br />\nJake Heggie (text of Emily Dickinson)<br />\n<br />\n&ldquo\;This is a Hinge Arts project supported by Springboard for the Arts. Hinge Arts is a residency program that was launched in 2015 to engage artists in the redevelopment of the Kirkbride Building\, a former mental health hospital in Fergus Falls\, MN.&rdquo\;</span></span></div>\n
LOCATION:First Lutheran Church 402 S Court St
UID:e.314.25986
SEQUENCE:3
DTSTAMP:20260426T025238Z
URL:https://business.fergusfalls.com/events/details/music-madness-11-13-2015-25986
END:VEVENT

END:VCALENDAR
