BEGIN:VCALENDAR
VERSION:2.0
PRODID:-//ChamberMaster//Event Calendar 2.0//EN
METHOD:PUBLISH
X-PUBLISHED-TTL:P3D
REFRESH-INTERVAL:P3D
CALSCALE:GREGORIAN
BEGIN:VEVENT
DTSTART:20180330T230000Z
DTEND:20180331T030000Z
X-MICROSOFT-CDO-ALLDAYEVENT:FALSE
SUMMARY:Mystery Dinner Theater & Improv
DESCRIPTION:Fearless Comedy Productions from the Twin Cities is coming to the Bigwood Event Center for "Reunion at Mystery Lodge" dinner theater followed by improv! Fearless Comedy Productions dinner theater performances have received excellent reviews!\n\n\n\nFriday\, March 30th\, 6:00-10:00 pm\n\n\n\n- 6:00 pm Cocktail Hour\n\n- 7:00 pm Performance Begins\, Dinner & Desserts are Served\n\n- 9:00 pm Intermission\n\n- 9:15 pm Improv Begins\n\n\n\nAll Inclusive $30 General Admission\n\nPurchase a Table of 8 to Receive Reserved VIP Seating
X-ALT-DESC;FMTTYPE=text/html:<div class="text_exposed_root" id="id_5aafeaca2b4809793436016"><span class="_4n-j _3cht fsl" data-testid="event-permalink-details">Fearless Comedy Productions from the Twin Cities is coming to the Bigwood Event Center for &quot\;Reunion at Mystery Lodge&quot\; dinner theater followed by improv! Fearless Comedy Productions dinner theater performances have received excellent reviews!<br />\n<br />\nFriday\, March 30th\, 6:00-10:00 pm<br />\n<br />\n- 6:00 pm Cocktail Hour<br />\n- 7:00 pm Performance Begins\, Dinner &amp\; Desserts are Served<br />\n- 9:00 pm Intermission<br />\n- 9:15 pm Improv Begins<br />\n<br />\nAll Inclusive $30 General Admission<br />\nPurchase a Table of 8 to Receive Reserved VIP Seating</span></div>\n
LOCATION:Country Inn & Suites / Bigwood Event Center 925 Western Ave\, Fergus Falls
UID:e.314.44971
SEQUENCE:3
DTSTAMP:20260424T013052Z
URL:https://business.fergusfalls.com/events/details/mystery-dinner-theater-improv-44971
END:VEVENT

END:VCALENDAR
