BEGIN:VCALENDAR
VERSION:2.0
PRODID:-//ChamberMaster//Event Calendar 2.0//EN
METHOD:PUBLISH
X-PUBLISHED-TTL:P3D
REFRESH-INTERVAL:P3D
CALSCALE:GREGORIAN
BEGIN:VEVENT
DTSTART;VALUE=DATE:20160601
DTEND;VALUE=DATE:20160602
TRANSP:TRANSPARENT
X-MICROSOFT-CDO-ALLDAYEVENT:TRUE
SUMMARY:Namaste Hot Grand Opening!
DESCRIPTION:Attention Namaste Hot members\, future members\, and friends\, our studio doors are set to open June 1st 2016!!\n\n\n\n*Namaste Hot is an infrared heated hot vinyasa yoga studio in Fergus Falls\, MN.
X-ALT-DESC;FMTTYPE=text/html:<p>Attention Namaste Hot members\, future members\, and friends\, our studio doors are set to open June 1st 2016!!<br />\n<br />\n*Namaste Hot is an infrared heated hot vinyasa yoga studio in Fergus Falls\, MN.</p>\n
LOCATION:102 W Lincoln Ave Fergus Falls
UID:e.314.32774
SEQUENCE:3
DTSTAMP:20260425T145536Z
URL:https://business.fergusfalls.com/events/details/namaste-hot-grand-opening-06-01-2016-32774
END:VEVENT

END:VCALENDAR
