BEGIN:VCALENDAR
VERSION:2.0
PRODID:-//ChamberMaster//Event Calendar 2.0//EN
METHOD:PUBLISH
X-PUBLISHED-TTL:P3D
REFRESH-INTERVAL:P3D
CALSCALE:GREGORIAN
BEGIN:VEVENT
DTSTART:20180825T230000Z
DTEND:20180826T010000Z
X-MICROSOFT-CDO-ALLDAYEVENT:FALSE
SUMMARY:Naomi RaMona Schliesman: The Silver Lining\, Reception & Talk
DESCRIPTION:Join us Saturday\, August 25 from 6 - 8 pm to celebrate the new works from Naomi RaMona Schliesman. Naomi will give her artist talk at 7 pm. The Silver Lining will be on display in the Kaddatz main gallery August 23 - September 29.\n\n\n\nArtist Bio and Statement:\n\nAs a child growing up in Fergus Falls\, Naomi RaMona Schliesman learned how to use her hands and create objects from a variety of media early in her life. Her family's frequent moves from home to home as well as her awareness of the disparate d cor of home\, school and church taught her the importance applying ornamentation and aesthetic to making a sense of space that says "home" or signifies the function of the space. Schliesman holds a BFA from Minnesota State University Moorhead and a MFA from the University of Wisconsin-Madison\, both with an emphasis in sculpture. She has received numerous awards and scholarships and has attended national and international residencies. She lives and works as Artist Development Director for Springboard of the Arts in Fergus Falls while continuing to show her work nationally and painting with her daughter Zara.
X-ALT-DESC;FMTTYPE=text/html:<span>Join us Saturday\, August 25 from 6 - 8 pm to celebrate the new works from Naomi RaMona Schliesman. Naomi will give her artist talk at 7 pm. The Silver Lining will be on display in the Kaddatz main gallery August 23 - September 29.<br />\n<br />\nArtist Bio and Statement:<br />\nAs a child growing up in Fergus Falls\, Naomi RaMona Schliesman learned how to use her hands and create objects from a variety of media early in her life. Her family&rsquo\;s frequent moves from home to home as well as her awareness of the disparate d&eacute\;cor of home\, school and church taught her the importance applying ornamentation and aesthetic to making a sense of space that says &ldquo\;home&rdquo\; or signifies the function of the space. Schliesman holds a BFA from Minnesota State University Moorhead and a MFA from the University of Wisconsin-Madison\, both with an emphasis in sculpture. She has received numerous awards and scholarships and has attended national and international residencies. She lives and works as Artist Development Director for Springboard of the Arts in Fergus Falls while continuing to show her work nationally and painting with her daughter Zara.</span>
LOCATION:Kaddatz Galleries 111 W Lincoln Ave\, Fergus Falls
UID:e.314.50313
SEQUENCE:3
DTSTAMP:20260423T181544Z
URL:https://business.fergusfalls.com/events/details/naomi-ramona-schliesman-the-silver-lining-reception-talk-50313
END:VEVENT

END:VCALENDAR
