BEGIN:VCALENDAR
VERSION:2.0
PRODID:-//ChamberMaster//Event Calendar 2.0//EN
METHOD:PUBLISH
X-PUBLISHED-TTL:P3D
REFRESH-INTERVAL:P3D
CALSCALE:GREGORIAN
BEGIN:VEVENT
DTSTART:20190124T233000Z
DTEND:20190125T003000Z
X-MICROSOFT-CDO-ALLDAYEVENT:FALSE
SUMMARY:Nar-Anon Family Group
DESCRIPTION:Nar-Anon Family Groups is a worldwide fellowship for the family and friends of those suffering from the disease of addiction. As a Twelve-Step program\, we offer our help by sharing our experience\, strength\, and hope. The Nar-Anon program is based on a set of spiritual principles and has no affiliation with any particular denomination. We have no dues or fees. The only requirement for membership is a problem of addiction in a relative or friend. Nar-Anon cooperates\, but is not affiliated with\, Narcotics Anonymous. If you have questions or would like additional information\, please contact us at ffnaranon@gmail.com
X-ALT-DESC;FMTTYPE=text/html:Nar-Anon Family Groups is a worldwide fellowship for the family and friends of those suffering from the disease of addiction. As a Twelve-Step program\, we offer our help by sharing our experience\, strength\, and hope. The Nar-Anon program is based on a set of spiritual principles and has no affiliation with any particular denomination. We have no dues or fees. The only requirement for membership is a problem of addiction in a relative or friend. Nar-Anon cooperates\, but is not affiliated with\, Narcotics Anonymous. If you have questions or would like additional information\, please contact us at ffnaranon@gmail.com
LOCATION:202 E Summit Ave (Zion Church) Fergus Falls\, MN 56537
UID:e.314.52369
SEQUENCE:3
DTSTAMP:20260423T105822Z
URL:https://business.fergusfalls.com/events/details/nar-anon-family-group-01-24-2019-52369
END:VEVENT

END:VCALENDAR
