BEGIN:VCALENDAR
VERSION:2.0
PRODID:-//ChamberMaster//Event Calendar 2.0//EN
METHOD:PUBLISH
X-PUBLISHED-TTL:P3D
REFRESH-INTERVAL:P3D
CALSCALE:GREGORIAN
BEGIN:VEVENT
DTSTART:20191004T210000Z
DTEND:20191005T020000Z
X-MICROSOFT-CDO-ALLDAYEVENT:FALSE
SUMMARY:National Taco Day Special @ Willy T's
DESCRIPTION:Celebrate National Taco Day At Willy T's\n\nSee you at Willy T's for Tacos & Tequila (that's a lot of T's)! Friday October 4th from 4 to 9 p.m. we are featuring a $5 All You Can Eat Taco Bar (with purchase of any beverage)\, and $4 house Margaritas! \n\n \n\nWith a deal this great we must say\, "while supplies last"!!
X-ALT-DESC;FMTTYPE=text/html:<span style="color:#000000\;"><span style="font-family:helvetica\,sans-serif\;"><span style="font-size:10.5pt\;">Celebrate National Taco Day At Willy T&#39\;s</span></span><br />\n<span style="font-family:helvetica\,sans-serif\;"><span style="font-size:10.5pt\;">See you at Willy T&#39\;s for Tacos &amp\; Tequila (that&#39\;s a lot of T&#39\;s)! Friday October 4th from 4 to 9 p.m. we are featuring a $5 All You Can Eat Taco Bar (with purchase of any beverage)\, and $4 house Margaritas!&nbsp\;</span></span><br />\n&nbsp\;<br />\n<span style="font-family:helvetica\,sans-serif\;"><span style="font-size:10.5pt\;">With a deal this great we must say\, &quot\;while supplies last&quot\;!!</span></span></span>
LOCATION:Willy T's @ Thumper Pond 300 Thumper Lodge Rd. Ottertail\, MN 56571
UID:e.314.54798
SEQUENCE:3
DTSTAMP:20260422T204047Z
URL:https://business.fergusfalls.com/events/details/national-taco-day-special-willy-t-s-54798
END:VEVENT

END:VCALENDAR
