BEGIN:VCALENDAR
VERSION:2.0
PRODID:-//ChamberMaster//Event Calendar 2.0//EN
METHOD:PUBLISH
X-PUBLISHED-TTL:P3D
REFRESH-INTERVAL:P3D
CALSCALE:GREGORIAN
BEGIN:VEVENT
DTSTART:20160604T150000Z
DTEND:20160604T160000Z
X-MICROSOFT-CDO-ALLDAYEVENT:FALSE
SUMMARY:National Trails Day Hike
DESCRIPTION:Trail Hike Guide Gaylen Mathiesen
X-ALT-DESC;FMTTYPE=text/html:Trail Hike Guide Gaylen Mathiesen
LOCATION:Maplewood State Park
UID:e.314.32736
SEQUENCE:3
DTSTAMP:20260425T145312Z
URL:https://business.fergusfalls.com/events/details/national-trails-day-hike-06-04-2016-32736
END:VEVENT

END:VCALENDAR
