BEGIN:VCALENDAR
VERSION:2.0
PRODID:-//ChamberMaster//Event Calendar 2.0//EN
METHOD:PUBLISH
X-PUBLISHED-TTL:P3D
REFRESH-INTERVAL:P3D
CALSCALE:GREGORIAN
BEGIN:VEVENT
DTSTART:20160604T200000Z
DTEND:20160604T210000Z
X-MICROSOFT-CDO-ALLDAYEVENT:FALSE
SUMMARY:National Trails Day Hike
DESCRIPTION:Hike Guide Bob Hubbes
X-ALT-DESC;FMTTYPE=text/html:Hike Guide Bob Hubbes
LOCATION:One Mile Hike - Parking lot on Hwy 210
UID:e.314.32738
SEQUENCE:3
DTSTAMP:20260425T145310Z
URL:https://business.fergusfalls.com/events/details/national-trails-day-hike-06-04-2016-32738
END:VEVENT

END:VCALENDAR
