BEGIN:VCALENDAR
VERSION:2.0
PRODID:-//ChamberMaster//Event Calendar 2.0//EN
METHOD:PUBLISH
X-PUBLISHED-TTL:P3D
REFRESH-INTERVAL:P3D
CALSCALE:GREGORIAN
BEGIN:VEVENT
DTSTART:20180512T140000Z
DTEND:20180512T200000Z
X-MICROSOFT-CDO-ALLDAYEVENT:FALSE
SUMMARY:National Women's Build Week
DESCRIPTION:National Women's Build Week \n\nJoin Women from West Otter Tail County to build homes & community! \n\nSaturday\, May 12\, 2018 \n\n9:00 a.m to 3:00 p.m. \n\nHabitat Warehouse \n\n421 W. Fir Avenue \n\nBuild window and door headers and frames for our upcoming 2018 Home Build
X-ALT-DESC;FMTTYPE=text/html:<p>&nbsp\;</p>\n\n<p><b><font size="7">National Women&#39\;s Build Week </font></b></p>\n\n<p><b><font size="5">Join Women from West Otter Tail County to build homes &amp\; community! </font></b></p>\n\n<p><b><font size="5">Saturday\, May 12\, 2018 </font></b></p>\n\n<p><b><font size="5">9:00 a.m to 3:00 p.m. </font></b></p>\n\n<p><b><font size="5">Habitat Warehouse </font></b></p>\n\n<p><b><font size="5">421 W. Fir Avenue </font></b></p>\n\n<p><b><font size="5">Build window and door headers and frames for our upcoming 2018 Home Build </font></b></p>\n
LOCATION:
UID:e.314.47723
SEQUENCE:3
DTSTAMP:20260423T224949Z
URL:https://business.fergusfalls.com/events/details/national-women-s-build-week-47723
END:VEVENT

END:VCALENDAR
