BEGIN:VCALENDAR
VERSION:2.0
PRODID:-//ChamberMaster//Event Calendar 2.0//EN
METHOD:PUBLISH
X-PUBLISHED-TTL:P3D
REFRESH-INTERVAL:P3D
CALSCALE:GREGORIAN
BEGIN:VEVENT
DTSTART:20190511T140000Z
DTEND:20190511T200000Z
X-MICROSOFT-CDO-ALLDAYEVENT:FALSE
SUMMARY:National Women's Build Week
DESCRIPTION:National Women's Build Week \n\nJoin Women from West Otter Tail County to build homes & community! \n\nBuild window and door headers and frames for our upcoming 2019 Home Build\n\nWe encourage all women to volunteer:\n\n\n	No constructions skills or experience in Habitat Builds necessary\n	All safety equipment provided: eye & hearing protections\, hard hats\, gloves\n	A light lunch will be served at no charge\n\n National Women's Build Week\, a nationwide initiative created by Habitat for Humanity and Lowe's in 2008\, has brought together more than 117\,000 women construction volunteers to build or repair homes with nearly 5\,000 families over the past 10 years.
X-ALT-DESC;FMTTYPE=text/html:<p><span style="font-size:14px\;"><b>National Women&#39\;s Build Week </b></span></p>\n\n<p><span style="font-size:14px\;"><b>Join Women from West Otter Tail County to build homes &amp\; community! </b></span></p>\n\n<p><span style="font-size:14px\;"><b>Build window and door headers and frames for our upcoming 2019 Home Build<br />\nWe encourage all women to volunteer:</b></span></p>\n\n<ul>\n	<li><span style="font-size:14px\;"><b>No constructions skills or experience in Habitat Builds necessary</b></span></li>\n	<li><span style="font-size:14px\;"><b>All safety equipment provided: eye &amp\; hearing protections\, hard hats\, gloves</b></span></li>\n	<li><span style="font-size:14px\;"><b>A light lunch will be served at no charge</b></span></li>\n</ul>\n<span style="font-size:14px\;"><b>&#8203\;National Women&#39\;s Build Week\, a nationwide initiative created by Habitat for Humanity and Lowe&#39\;s in 2008\, has brought together more than 117\,000 women construction volunteers to build or repair homes with nearly 5\,000 families over the past 10 years.</b></span>
LOCATION:Habitat Warehouse 421 W. Fir Avenue Fergus Falls\, MN
UID:e.314.53874
SEQUENCE:3
DTSTAMP:20260423T050517Z
URL:https://business.fergusfalls.com/events/details/national-women-s-build-week-53874
END:VEVENT

END:VCALENDAR
