BEGIN:VCALENDAR
VERSION:2.0
PRODID:-//ChamberMaster//Event Calendar 2.0//EN
METHOD:PUBLISH
X-PUBLISHED-TTL:P3D
REFRESH-INTERVAL:P3D
CALSCALE:GREGORIAN
BEGIN:VEVENT
DTSTART:20151223T223000Z
DTEND:20151223T230000Z
X-MICROSOFT-CDO-ALLDAYEVENT:FALSE
SUMMARY:Nativity Display &Open House followed by Carols & Reading Services
DESCRIPTION:Wednesday\, December 23 @ 4:30 pm   Nativity Display &Open House followed by Carols & Reading Services.  Trinity Lutheran Church on Cavour. Public invited.
X-ALT-DESC;FMTTYPE=text/html:<span style="font-family: calibri\,sans-serif\;"><span style="color: black\;"><span style="font-size: medium\;">Wednesday\, December 23 @ 4:30 pm &ndash\; Nativity Display &amp\;Open House followed by Carols &amp\; Reading Services.&nbsp\; Trinity Lutheran Church on Cavour. Public invited.</span></span></span><br />\n&nbsp\;
LOCATION:1150 W Cavour Ave Fergus Falls
UID:e.314.27966
SEQUENCE:3
DTSTAMP:20260426T011723Z
URL:https://business.fergusfalls.com/events/details/nativity-display-open-house-followed-by-carols-reading-services-12-23-2015-27966
END:VEVENT

END:VCALENDAR
