BEGIN:VCALENDAR
VERSION:2.0
PRODID:-//ChamberMaster//Event Calendar 2.0//EN
METHOD:PUBLISH
X-PUBLISHED-TTL:P3D
REFRESH-INTERVAL:P3D
CALSCALE:GREGORIAN
BEGIN:VEVENT
DTSTART:20191221T190000Z
DTEND:20191221T220000Z
X-MICROSOFT-CDO-ALLDAYEVENT:FALSE
SUMMARY:NDSU Bison versus Montana State Bobcats @ Steel Wheels
DESCRIPTION:Watch NDSU Bison versus Montana State Bobcats\n\n\n\n  Hosted by Dining Car #423 / Steel Wheels
X-ALT-DESC;FMTTYPE=text/html:<h1 class="_5gmx" data-testid="event-permalink-event-name" id="seo_h1_tag">Watch NDSU Bison versus Montana State Bobcats</h1>\n\n<div class="_5gnb">\n<div class="_b9-">\n<div content="Dining Car #423 / Steel Wheels &amp\; Cascade Street Station &amp\; Cascade Street Station" data-testid="event_permalink_feature_line" style="display: inline\;">&middot\; Hosted by <a data-hovercard="/ajax/hovercard/page.php?id=207837332987389&amp\;extragetparams=%7B%22eid%22%3A%22ARBZ1EzP_XVICvQ37VgbYWhigu-8CpDjdl6-NpPgQgFh458qjZbl4oMwLiyj-qiaR-ckd1E_KhwMpnK3%22%7D" data-hovercard-position="below" href="https://www.facebook.com/theNPdepot/?eid=ARBZ1EzP_XVICvQ37VgbYWhigu-8CpDjdl6-NpPgQgFh458qjZbl4oMwLiyj-qiaR-ckd1E_KhwMpnK3"><font color="#0066cc">Dining Car #423 / Steel Wheels</font></a></div>\n</div>\n</div>\n
LOCATION:Dining Car #423 / Steel Wheels 423 S Cascade Street\, Fergus Falls\, Minnesota 56537
UID:e.314.56010
SEQUENCE:3
DTSTAMP:20260422T172918Z
URL:https://business.fergusfalls.com/events/details/ndsu-bison-versus-montana-state-bobcats-steel-wheels-56010
END:VEVENT

END:VCALENDAR
