BEGIN:VCALENDAR
VERSION:2.0
PRODID:-//ChamberMaster//Event Calendar 2.0//EN
METHOD:PUBLISH
X-PUBLISHED-TTL:P3D
REFRESH-INTERVAL:P3D
CALSCALE:GREGORIAN
BEGIN:VEVENT
DTSTART:20190425T220000Z
DTEND:20190426T010000Z
X-MICROSOFT-CDO-ALLDAYEVENT:FALSE
SUMMARY:NEW DATE 4/25: Park Region Telephone Annual Meeting & Customer Appreciation
DESCRIPTION:Annual Meeting & Customer Appreciation Event\n\n@home with Park Region \n\nThursday\, April 25\, 2019\n\n5:00-6:30pm Registration\n\nSW Entrance - Main doors\n\nRegistration - Gym\n\nUnderwood Lions Pork Chop Dinner - Commons Area\n\nCoffee & Cookies with the Board of Directors - Gym\n\nEntertainment & Product Demonstrations\n\n6:00-7:30pm Kids' Area\n\nMovie\, Popcorn & Prizes for Kids Ages 4-12\n\n6:30pm Annual Meeting\n\nAnnouncement of Director Elections\n\nFinancial\, General Manager and Youth Tour Projects\n\nDon't miss your opportunity to learn more about our company. We hope to see you there!
X-ALT-DESC;FMTTYPE=text/html:<span style="font-family:verdana\;"><span style="font-size: 14px"><span style="color: #5e5e5e"><b>Annual Meeting &amp\; Customer Appreciation Event</b></span><br />\n<span style="font-size:18px\;"><span style="color:#0000FF\;"><b>@home with Park Region</b></span></span><span style="color: #5e5e5e"><b>&nbsp\;<br />\nThursday\, April 25\, 2019</b></span></span><br />\n<strong>5:00-6:30pm Registration</strong><br />\nSW Entrance - Main doors<br />\nRegistration - Gym<br />\nUnderwood Lions Pork Chop Dinner - Commons Area<br />\nCoffee &amp\; Cookies with the Board of Directors - Gym<br />\nEntertainment &amp\; Product Demonstrations<br />\n<strong>6:00-7:30pm Kids&#39\; Area</strong><br />\nMovie\, Popcorn &amp\; Prizes for Kids Ages 4-12<br />\n<strong>6:30pm Annual Meeting</strong><br />\nAnnouncement of Director Elections<br />\nFinancial\, General Manager and Youth Tour Projects<br />\n<span style="font-size: 14px"><span style="color: #5e5e5e">Don&#39\;t miss your opportunity to learn more about our company. We hope to see you there! </span></span></span>
LOCATION:Underwood Public School Underwood\, MN
UID:e.314.53056
SEQUENCE:3
DTSTAMP:20260423T063513Z
URL:https://business.fergusfalls.com/events/details/new-date-4-25-park-region-telephone-annual-meeting-customer-appreciation-53056
END:VEVENT

END:VCALENDAR
