BEGIN:VCALENDAR
VERSION:2.0
PRODID:-//ChamberMaster//Event Calendar 2.0//EN
METHOD:PUBLISH
X-PUBLISHED-TTL:P3D
REFRESH-INTERVAL:P3D
CALSCALE:GREGORIAN
BEGIN:VEVENT
DTSTART;VALUE=DATE:20171229
DTEND;VALUE=DATE:20180102
TRANSP:TRANSPARENT
X-MICROSOFT-CDO-ALLDAYEVENT:TRUE
SUMMARY:New Year's at the VFW
DESCRIPTION:VFW Post 612 - Holiday Fun\n\n\n\nMeat Raffles - 4pm Fri\n\nNight Bar Bingo - 530pm Fri\n\n\n\nHappy Hour: M-F 2-6pm\n\nBingo: Wed & Thurs 7pm\n\n\n\nNew Year's Eve Sun Dec31 \n\n2pm  Bingo $500 Blackout\n\n\n\nNew Year's Day Mon. Jan1st 1030am-1145am \n\n12pm Bingo\n\n\n\nTom & Jerry\n\nSloppy Joe & Chips 11am-2pm\n\nSide Winter 7-11pm
X-ALT-DESC;FMTTYPE=text/html:<span style="font-size: 16px\;"><strong>VFW Post 612 - Holiday Fun</strong></span><br />\n<br />\n<strong>Meat Raffles</strong> - 4pm Fri<br />\n<strong>Night Bar Bingo</strong> - 530pm Fri<br />\n<br />\n<span style="font-size: 8px\;">Happy Hour: M-F 2-6pm<br />\nBingo: Wed &amp\; Thurs 7pm<br />\n<br />\n<strong><span style="font-size: 12px\;"><span style="font-size: 14px\;">New Year&#39\;s Eve Sun Dec31&nbsp\;</span><br />\n2pm&nbsp\; Bingo $500 Blackout<br />\n<br />\n<span style="font-size: 14px\;">New Year&#39\;s Day Mon. Jan1st 1030am-1145am </span><br />\n12pm Bingo<br />\n<br />\n<span style="font-size: 11px\;">Tom &amp\; Jerry<br />\nSloppy Joe &amp\; Chips 11am-2pm<br />\nSide Winter 7-11pm</span></span></strong></span><br />\n<br />\n<br />\n<br />\n&nbsp\;
LOCATION:VFW Post 612 420 E Washington Fergus Falls
UID:e.314.43569
SEQUENCE:3
DTSTAMP:20260424T073445Z
URL:https://business.fergusfalls.com/events/details/new-year-s-at-the-vfw-43569
END:VEVENT

END:VCALENDAR
