BEGIN:VCALENDAR
VERSION:2.0
PRODID:-//ChamberMaster//Event Calendar 2.0//EN
METHOD:PUBLISH
X-PUBLISHED-TTL:P3D
REFRESH-INTERVAL:P3D
CALSCALE:GREGORIAN
BEGIN:VEVENT
DTSTART:20160101T163000Z
DTEND:20160102T055500Z
X-MICROSOFT-CDO-ALLDAYEVENT:FALSE
SUMMARY:New Year's Day Events VFW
DESCRIPTION:New Year's Day at the VFW\n\nOpen at 10:30am \n\nTom & Jerry's sandwiches \n\nstarting at 11am \n\n12 Noon Bingo\n\n57 Chevy- 7:30pm
X-ALT-DESC;FMTTYPE=text/html:New Year&#39\;s Day at the VFW<br />\nOpen at 10:30am&nbsp\;<br />\nTom &amp\; Jerry&#39\;s sandwiches&nbsp\;<br />\nstarting at 11am&nbsp\;<br />\n12 Noon Bingo<br />\n57 Chevy- 7:30pm<br />\n&nbsp\;
LOCATION:VFW Thunder Hall 420 E. Washington
UID:e.314.27974
SEQUENCE:3
DTSTAMP:20260425T215154Z
URL:https://business.fergusfalls.com/events/details/new-year-s-day-events-vfw-01-01-2016-27974
END:VEVENT

END:VCALENDAR
