BEGIN:VCALENDAR
VERSION:2.0
PRODID:-//ChamberMaster//Event Calendar 2.0//EN
METHOD:PUBLISH
X-PUBLISHED-TTL:P3D
REFRESH-INTERVAL:P3D
CALSCALE:GREGORIAN
BEGIN:VEVENT
DTSTART:20160101T180000Z
DTEND:20160102T000000Z
X-MICROSOFT-CDO-ALLDAYEVENT:FALSE
SUMMARY:New Year's Day ~ inaugural Community Potluck & Live Music Party!
DESCRIPTION:Join us on Friday\, New Year's Day\, for our inaugural Community Potluck and live music party! We will be open from 12-6pm\, with live music from 1:00-5:00. The line-up is:\n\n\n\nHeadlining: Dan Olson and the Real Feels\n\n\n\nSpecial appearances by:\n\n\n\nThe Fancy and the Functional\n\nHardscrabble\n\nAimee Nordlund and Conor Lee\n\n\n\nOther *surprise* appearances are to be expected!\n\n...\n\nOur kitchen will not be in service for this event\, but the bar WILL be open. We encourage you to bring a dish to share and pass around! Tables will be set up for any snack/salad/side dish you'd care to bring - the more the better! Ben and Tessa will be making homemade chili and wings. Come for the whole event\, or come for an hour or two - we're leaving it pretty open.\n\n\n\nCome help us celebrate our first nine months - we couldn't have done it without you. This event is FREE to attend. See you Friday!
X-ALT-DESC;FMTTYPE=text/html:<div class="text_exposed_root text_exposed" id="id_568400b85bdf99116322119"><span class="fsl">Join us on Friday\, New Year&#39\;s Day\, for our inaugural Community Potluck and live music party! We will be open from 12-6pm\, with live music from 1:00-5:00. The line-up is:<br />\n<br />\nHeadlining: Dan Olson and the Real Feels<br />\n<br />\nSpecial appearances by:<br />\n<br />\nThe Fancy and the Functional<br />\nHardscrabble<br />\nAimee Nordlund and Conor Lee<br />\n<br />\nOther *surprise* appearances are to be expected!<br />\n<span class="text_exposed_hide">...</span><br />\n<span class="text_exposed_show">Our kitchen will not be in service for this event\, but the bar WILL be open. We encourage you to bring a dish to share and pass around! Tables will be set up for any snack/salad/side dish you&#39\;d care to bring - the more the better! Ben and Tessa will be making homemade chili and wings. Come for the whole event\, or come for an hour or two - we&#39\;re leaving it pretty open.<br />\n<br />\nCome help us celebrate our first nine months - we couldn&#39\;t have done it without you. This event is FREE to attend. See you Friday!</span></span></div>\n
LOCATION:Union Pizza & Brewing CO. 114 S Union Ave\, Fergus Falls\, Minnesota 56537
UID:e.314.27977
SEQUENCE:3
DTSTAMP:20260425T215836Z
URL:https://business.fergusfalls.com/events/details/new-year-s-day-inaugural-community-potluck-live-music-party-01-01-2016-27977
END:VEVENT

END:VCALENDAR
