BEGIN:VCALENDAR
VERSION:2.0
PRODID:-//ChamberMaster//Event Calendar 2.0//EN
METHOD:PUBLISH
X-PUBLISHED-TTL:P3D
REFRESH-INTERVAL:P3D
CALSCALE:GREGORIAN
BEGIN:VEVENT
DTSTART:20160101T040000Z
DTEND:20160101T055500Z
X-MICROSOFT-CDO-ALLDAYEVENT:FALSE
SUMMARY:New Year's Eve Bowling Party 18+
DESCRIPTION:Have you made your New Years Eve Plans yet??? Come have some fun at our NYE MoonLight Jackpot Bowling Party! Lots of FUN\, FOOD\, and $$$. With a little luck\, we could end up paying you to have fun with us!\n\nParty Starts at 10pm On New Years Eve\, call or stop out to get signed up! 18+event
X-ALT-DESC;FMTTYPE=text/html:<span style="color: rgb(102\, 102\, 102)\; font-family: helvetica\, arial\, sans-serif\; font-size: 12px\; line-height: 17.8667px\; background-color: rgb(255\, 255\, 255)\;">Have you made your New Years Eve Plans yet??? Come have some fun at our NYE MoonLight Jackpot Bowling Party! Lots of FUN\, FOOD\, and $$$. With a little luck\,&nbsp\;</span><span class="text_exposed_show" style="display: inline\; color: rgb(102\, 102\, 102)\; font-family: helvetica\, arial\, sans-serif\; font-size: 12px\; line-height: 17.8667px\; background-color: rgb(255\, 255\, 255)\;">we could end up paying you to have fun with us!<br />\nParty Starts at 10pm On New Years Eve\, call or stop out to get signed up! 18+event</span>
LOCATION:Northern Aire Lanes
UID:e.314.27973
SEQUENCE:3
DTSTAMP:20260425T233241Z
URL:https://business.fergusfalls.com/events/details/new-year-s-eve-bowling-party-18-12-31-2015-27973
END:VEVENT

END:VCALENDAR
