BEGIN:VCALENDAR
VERSION:2.0
PRODID:-//ChamberMaster//Event Calendar 2.0//EN
METHOD:PUBLISH
X-PUBLISHED-TTL:P3D
REFRESH-INTERVAL:P3D
CALSCALE:GREGORIAN
BEGIN:VEVENT
DTSTART:20180101T010000Z
DTEND:20180101T040000Z
X-MICROSOFT-CDO-ALLDAYEVENT:FALSE
SUMMARY:New Year's Eve in the Dining Car
DESCRIPTION:In house Chef Nicholas Aune will be preparing a special New Year's Eve\, 5 course\, Surf and Turf Dinner at Dining Car #423 in the depot by the Library. Included in the dinner will be an appetizer choice\, as well as a gourmet soup and salad. The Main Course will be scallops in a lime-honey viniagrette\, and hanger steak with a sauce Narendra. Dessert will be Nick's secret "dreamcicle" Creme Brulee. Also available will be selections from Dining Car #423's extensive wine and craft beer list\, and we will be rolling out some special post dinner wines and ales to sample for those that care to linger. Tickets will be available in advance only and seating will be limited. Like our facebook page to stay updated as we finalze the menu and details!
X-ALT-DESC;FMTTYPE=text/html:<span style="color: rgb(75\, 79\, 86)\; text-transform: none\; text-indent: 0px\; letter-spacing: normal\; font-family: Helvetica\, Arial\, sans-serif\; font-size: 14px\; font-style: normal\; font-weight: 400\; word-spacing: 0px\; float: none\; display: inline !important\; white-space: normal\; orphans: 2\; widows: 2\; background-color: rgb(255\, 255\, 255)\; font-variant-ligatures: normal\; font-variant-caps: normal\; -webkit-text-stroke-width: 0px\; text-decoration-style: initial\; text-decoration-color: initial\;">In house Chef Nicholas Aune will be preparing a special New Year&#39\;s Eve\, 5 course\, Surf and Turf Dinner at Dining Car #423 in the depot by the Library. Included in the dinner will be an appetizer choice\, as well as a gourmet soup and salad. The Main Course will be scallops in a lime-honey viniagrette\, and hanger steak with a sauce Narendra. Dessert will be Nick&#39\;s secret &quot\;dreamcicle&quot\; Creme Brulee. Also available will be selections from Dining Car #423&#39\;s extensive wine and craft beer list\, and we will be rolling out some special post dinner wines and ales to sample for those that care to linger. Tickets will be available in advance only and seating will be limited. Like&nbsp\;our facebook page to stay updated as we finalze the menu and details!</span>
LOCATION:Dining Car #423 423 S Cascade Street Fergus Falls
UID:e.314.43572
SEQUENCE:3
DTSTAMP:20260424T062033Z
URL:https://business.fergusfalls.com/events/details/new-year-s-eve-in-the-dining-car-43572
END:VEVENT

END:VCALENDAR
