BEGIN:VCALENDAR
VERSION:2.0
PRODID:-//ChamberMaster//Event Calendar 2.0//EN
METHOD:PUBLISH
X-PUBLISHED-TTL:P3D
REFRESH-INTERVAL:P3D
CALSCALE:GREGORIAN
BEGIN:VEVENT
DTSTART:20191231T230000Z
DTEND:20200101T040000Z
X-MICROSOFT-CDO-ALLDAYEVENT:FALSE
SUMMARY:New Year’s Eve in the Dining Car
DESCRIPTION:A very special 4 course dinner served for your enjoyment on the final evening of the decade. Served in the original "Dining Car #423" room of the historical Cascade Street Station (the olde depot by the Library).\n\n\n\nHouse Chef Peter Vanderlinden will be your conductor and your journey will "leave the station" with a cup of his signature French Onion soup.\n\n\n\nNext stop is a fresh\, light and refreshing mixed-green side salad with your choice of dressing.\n\n\n\nThe "mainline" feature is a top shelf Surf & Turf featuring a gorgeous pan-seared 8 oz center cut fillet mignon with bordelaise sauce\, 3 colossal 6 oz coconut-encrusted freshwater prawns served with house made remoulade\, yukon gold pommes pur e\, and a fresh garden vegetable medley.\n\n\n\nThe "caboose" to this culinary train ride is a delectable slice of Dining Car #423 limoncello cake.\n\n\n\nTicket price for your "dinner of the decade" is $65 per person. Add a carefully house selected pairing flight of 4 wines for $16\, or 4 spirits for $20.\n\n\n\nSorry\, adults only. Reservations strongly encouraged. We are strictly limiting this train trip to 18 "passengers". If you miss the train this time we will be offering the regular menu and special New Years appetizers all evening in our bar area\, Steel Wheels.\n\n\n\nAll aboard!
X-ALT-DESC;FMTTYPE=text/html:<span>A very special 4 course dinner served for your enjoyment on the final evening of the decade. Served in the original &ldquo\;Dining Car #423&rdquo\; room of the historical Cascade Street Station (the olde depot by the Library).<br />\n<br />\nHouse Chef Peter Vanderlinden will be your conductor and your journey will &ldquo\;leave the station&rdquo\; with a cup of his signature French Onion soup.<br />\n<br />\nNext stop is a fresh\, light and refreshing mixed-green side salad with your choice of dressing.<br />\n<br />\nThe &ldquo\;mainline&rdquo\; feature is a top shelf Surf &amp\; Turf featuring a gorgeous pan-seared 8 oz center cut fillet mignon with bordelaise sauce\, 3 colossal 6 oz coconut-encrusted freshwater prawns served with house made remoulade\, yukon gold pommes pur&eacute\;e\, and a fresh garden vegetable medley.<br />\n<br />\nThe &ldquo\;caboose&rdquo\; to this culinary train ride is a delectable slice of Dining Car #423 limoncello cake.<br />\n<br />\nTicket price for your &ldquo\;dinner of the decade&rdquo\; is $65 per person. Add a carefully house selected pairing flight of 4 wines for $16\, or 4 spirits for $20.<br />\n<br />\nSorry\, adults only. Reservations strongly encouraged. We are strictly limiting this train trip to 18 &ldquo\;passengers&rdquo\;. If you miss the train this time we will be offering the regular menu and special New Years appetizers all evening in our bar area\, Steel Wheels.<br />\n<br />\nAll aboard!</span>
LOCATION:Dining Car #423 / Steel Wheels 423 S Cascade Street\, Fergus Falls\, Minnesota 56537
UID:e.314.56031
SEQUENCE:3
DTSTAMP:20260422T190353Z
URL:https://business.fergusfalls.com/events/details/new-year-s-eve-in-the-dining-car-56031
END:VEVENT

END:VCALENDAR
