BEGIN:VCALENDAR
VERSION:2.0
PRODID:-//ChamberMaster//Event Calendar 2.0//EN
METHOD:PUBLISH
X-PUBLISHED-TTL:P3D
REFRESH-INTERVAL:P3D
CALSCALE:GREGORIAN
BEGIN:VEVENT
DTSTART:20181231T220000Z
DTEND:20190101T020000Z
X-MICROSOFT-CDO-ALLDAYEVENT:FALSE
SUMMARY:New Year's Eve Trivia @UPBC!
DESCRIPTION:Come join us for a back-to-back trivia extravaganza this year on New Year's Eve\, Monday\, Dec. 31st! Here's the rundown:\n\n\n\nKIDS/TEENS TRIVIA: 4:00-5:30\n\nThis event is geared towards kids between the ages of 7-14\, but all are welcome! There will be four (4) rounds of trivia: Q&A\, Music\, Visual\, and Mystery Round. $5 entry fee per child will get him/her a soda and two slices of pizza - prizes awarded for each winning team per round!\n\n\n\nADULT TRIVIA: 6:00-8:00\n\nThis portion will consist of regular Tuesday night trivia: FREE to play\, and $50 in UPBC gift certificates up for grabs!\n\n\n\nCome spend the earlier hours of the last day of the year with us and some pizza\, craft beers\, and delicious homemade desserts before heading to your NYE parties!
X-ALT-DESC;FMTTYPE=text/html:<span>Come join us for a back-to-back trivia extravaganza this year on New Year&#39\;s Eve\, Monday\, Dec. 31st! Here&#39\;s the rundown:<br />\n<br />\nKIDS/TEENS TRIVIA: 4:00-5:30<br />\nThis event is geared towards kids between the ages of 7-14\, but all are welcome! There will be four (4) rounds of trivia: Q&amp\;A\, Music\, Visual\, and Mystery Round. $5 entry fee per child will get him/her a soda and two slices of pizza - prizes awarded for each winning team per round!<br />\n<br />\nADULT TRIVIA: 6:00-8:00<br />\nThis portion will consist of regular Tuesday night trivia: FREE to play\, and $50 in UPBC gift certificates up for grabs!<br />\n<br />\nCome spend the earlier hours of the last day of the year with us and some pizza\, craft beers\, and delicious homemade desserts before heading to your NYE parties!</span>
LOCATION:Union Pizza & Brewing Co 114 S Union Ave Fergus Falls
UID:e.314.52265
SEQUENCE:3
DTSTAMP:20260423T133633Z
URL:https://business.fergusfalls.com/events/details/new-year-s-eve-trivia-upbc-52265
END:VEVENT

END:VCALENDAR
