BEGIN:VCALENDAR
VERSION:2.0
PRODID:-//ChamberMaster//Event Calendar 2.0//EN
METHOD:PUBLISH
X-PUBLISHED-TTL:P3D
REFRESH-INTERVAL:P3D
CALSCALE:GREGORIAN
BEGIN:VEVENT
DTSTART;VALUE=DATE:20171231
DTEND;VALUE=DATE:20180102
TRANSP:TRANSPARENT
X-MICROSOFT-CDO-ALLDAYEVENT:TRUE
SUMMARY:New Year's Open Bowling Hours
DESCRIPTION:Let's Bowl! \n\n\n\nNew Year's Eve Day: Noon-9:30pm\n\nNew Year's Eve Jackpot Bowling Party starts at 10pm.  Call for reservations.\n\n\n\nNew Year's Day: 2pm-9pm\n\nAdditional open bowling times available.  Call for times!
X-ALT-DESC;FMTTYPE=text/html:<span style="font-size: 14px\;"><strong>Let&#39\;s Bowl! </strong></span><br />\n<br />\n<span style="font-size: 14px\;"><strong>New Year&#39\;s Eve Day</strong>:</span> <em><strong>Noon-9:30pm</strong></em><br />\nNew Year&#39\;s Eve Jackpot Bowling Party starts at 10pm.&nbsp\; Call for reservations.<br />\n<br />\n<span style="font-size: 14px\;"><strong>New Year&#39\;s Day: <em>2pm-9pm</em></strong><br />\n<span style="font-size: 12px\;">Additional open bowling times available.&nbsp\; Call for times!</span></span>
LOCATION:Northern Aire Lanes 1419 College Way Fergus Falls
UID:e.314.43568
SEQUENCE:3
DTSTAMP:20260424T042319Z
URL:https://business.fergusfalls.com/events/details/new-year-s-open-bowling-hours-43568
END:VEVENT

END:VCALENDAR
