BEGIN:VCALENDAR
VERSION:2.0
PRODID:-//ChamberMaster//Event Calendar 2.0//EN
METHOD:PUBLISH
X-PUBLISHED-TTL:P3D
REFRESH-INTERVAL:P3D
CALSCALE:GREGORIAN
BEGIN:VEVENT
DTSTART:20200101T000000Z
DTEND:20200101T230000Z
X-MICROSOFT-CDO-ALLDAYEVENT:FALSE
SUMMARY:New Years at the VFW!
DESCRIPTION:Tuesday\, December 31\, 2019\n\n\n\n \n\n\n\n \n\n\n \n\n\n\n6:00 PM\n\n\n\nBingo with $750 Blackout\n\n\n\n\n\n\n\n\n\n\nWednesday\, January 1\, 2020\n\n\n\n \n\n\n\n\n\n\n12:00 PM\n\n\n\nBingo with $750 Blackout
X-ALT-DESC;FMTTYPE=text/html:<div>\n<div>\n<div class="_6euo">Tuesday\, December 31\, 2019</div>\n</div>\n\n<div class="_6fzz">\n<div class="_6ins">&nbsp\;</div>\n\n<div>\n<div class="_6int">\n<div>&nbsp\;</div>\n\n<div class="_6f1m">\n<div class="_6f1o">&nbsp\;</div>\n\n<div>\n<div class="_6eup">\n<div>6:00 PM</div>\n</div>\n\n<div class="_6euq">\n<div>Bingo with $750 Blackout</div>\n</div>\n</div>\n</div>\n</div>\n</div>\n</div>\n</div>\n\n<div>\n<div>\n<div class="_6euo">Wednesday\, January 1\, 2020</div>\n</div>\n\n<div class="_6fzz">\n<div class="_6ins">&nbsp\;</div>\n\n<div>\n<div class="_6int">\n<div class="_6f1m">\n<div>\n<div class="_6eup">\n<div>12:00 PM</div>\n</div>\n\n<div class="_6euq">\n<div>Bingo with $750 Blackout</div>\n</div>\n</div>\n</div>\n</div>\n</div>\n</div>\n</div>\n
LOCATION:
UID:e.314.56027
SEQUENCE:3
DTSTAMP:20260422T172115Z
URL:https://business.fergusfalls.com/events/details/new-years-at-the-vfw-56027
END:VEVENT

END:VCALENDAR
