BEGIN:VCALENDAR
VERSION:2.0
PRODID:-//ChamberMaster//Event Calendar 2.0//EN
METHOD:PUBLISH
X-PUBLISHED-TTL:P3D
REFRESH-INTERVAL:P3D
CALSCALE:GREGORIAN
BEGIN:VEVENT
DTSTART:20181231T230000Z
DTEND:20190102T000000Z
X-MICROSOFT-CDO-ALLDAYEVENT:FALSE
SUMMARY:New Years Eve at Shooting Star Casino
DESCRIPTION:New Year's Eve at Shooting Star Casino\n\n \nDetails\n \n\n\n\n\n\nCount up your winnings while counting down the New Year on December 31 - January 1 at Shooting Star Casino!\n\n\n\nJoin us for New Year's Eve festivities\, featuring a flair bartender\, impersonator\, and multiple chances to WIN BIG! Starting at 5 p.m. we're offering Hot Seat drawings and will draw a winner every half hour. Click here for more info on times\, prizes\, & rules: https://bit.ly/2SfPGUk\n\n\n\nOn New Year's Day\, from 4 - 6 p.m.\, earn 25 points to receive an entry for Pong Blingo! Three winners will be selected at each drawing time and one lucky winner will get to play our NEW YEAR'S DAY BLINGO GAME for a chance to win over $125\,000 in cash & prizes! Click here for rules: https://bit.ly/2UUHcE3
X-ALT-DESC;FMTTYPE=text/html:<span style="font-size: 18px\;">New Year&#39\;s Eve at Shooting Star Casino</span><br />\n&nbsp\;\n<div class="_4l8p _5dw9 _5dwa _4-u3"><span class="_4l8q _38my" itemcomponent="span">Details</span>\n<div class="_3s3-">&nbsp\;</div>\n</div>\n\n<div class="_62hs _4-u3">\n<div class="_63es">\n<div class="_63eu _63ev">\n<div class="_63ew" data-testid="event-permalink-details"><span>Count up your winnings while counting down the New Year on December 31 - January 1 at Shooting Star Casino!<br />\n<br />\nJoin us for New Year&#39\;s Eve festivities\, featuring a flair bartender\, impersonator\, and multiple chances to WIN BIG! Starting at 5 p.m. we&#39\;re offering Hot Seat drawings and will draw a winner every half hour. Click here for more info on times\, prizes\, &amp\; rules: <a data-lynx-mode="hover" href="https://l.facebook.com/l.php?u=https%3A%2F%2Fbit.ly%2F2SfPGUk%3Ffbclid%3DIwAR2XTMZfpXaej4VlMumatldTdRzJVLqrmobxB7y1uJvjwzlFZu9THtLEi-g&amp\;h=AT1bZtNh4BhnRq-Kr4N742fy5ejKyoRVbz3iSusScwUdj6yb0wbuz9BYBiMZtFDdyAujH2YXQCcWJ_4fLkggrarCLrUoYw-h3JXvm8qe3VF1rdZUz85Vd_nguKfR8V3mAQ" rel="nofollow" target="_blank"><font color="#0066cc">https://bit.ly/2SfPGUk</font></a><br />\n<br />\nOn New Year&#39\;s Day\, from 4 - 6 p.m.\, earn 25 points to receive an entry for Pong Blingo! Three winners will be selected at each drawing time and one lucky winner will get to play our NEW YEAR&rsquo\;S DAY BLINGO GAME for a chance to win over $125\,000 in cash &amp\; prizes! Click here for rules: <a data-lynx-mode="hover" data-lynx-uri="https://l.facebook.com/l.php?u=https%3A%2F%2Fbit.ly%2F2UUHcE3%3Ffbclid%3DIwAR26Ibf4fZtwfnfSE5xLzIXOPlnoZm_AbGOMehFojSDQWkq-YHobVN6FUhw&amp\;h=AT0ZjqydwOMBa9cibnHIm_-g7aQwkKjSabNQl_w6AB1eUUwcXIeZQGpMvQTKZR_sBjONJ9MreE0nqJqNSd1y_l1x3piASsdnfCv95lMZl3Nt98JarW9Fi8pgERbHmyAzHQ" href="https://bit.ly/2UUHcE3?fbclid=IwAR26Ibf4fZtwfnfSE5xLzIXOPlnoZm_AbGOMehFojSDQWkq-YHobVN6FUhw" rel="nofollow" target="_blank"><font color="#0066cc">https://bit.ly/2UUHcE3</font></a></span><br />\n&nbsp\;</div>\n</div>\n</div>\n</div>\n
LOCATION:Shooting Star Casino 777 Casino Rd\, Mahnomen\, Minnesota 56557
UID:e.314.52177
SEQUENCE:3
DTSTAMP:20260423T110123Z
URL:https://business.fergusfalls.com/events/details/new-years-eve-at-shooting-star-casino-52177
END:VEVENT

END:VCALENDAR
